BEGIN:VCALENDAR
VERSION:2.0
PRODID:-//Camera Club of Laguna Woods Village - ECPv6.15.20//NONSGML v1.0//EN
CALSCALE:GREGORIAN
METHOD:PUBLISH
X-WR-CALNAME:Camera Club of Laguna Woods Village
X-ORIGINAL-URL:https://cameraclublwv.org
X-WR-CALDESC:Events for Camera Club of Laguna Woods Village
REFRESH-INTERVAL;VALUE=DURATION:PT1H
X-Robots-Tag:noindex
X-PUBLISHED-TTL:PT1H
BEGIN:VTIMEZONE
TZID:America/Los_Angeles
BEGIN:DAYLIGHT
TZOFFSETFROM:-0800
TZOFFSETTO:-0700
TZNAME:PDT
DTSTART:20220313T100000
END:DAYLIGHT
BEGIN:STANDARD
TZOFFSETFROM:-0700
TZOFFSETTO:-0800
TZNAME:PST
DTSTART:20221106T090000
END:STANDARD
BEGIN:DAYLIGHT
TZOFFSETFROM:-0800
TZOFFSETTO:-0700
TZNAME:PDT
DTSTART:20230312T100000
END:DAYLIGHT
BEGIN:STANDARD
TZOFFSETFROM:-0700
TZOFFSETTO:-0800
TZNAME:PST
DTSTART:20231105T090000
END:STANDARD
BEGIN:DAYLIGHT
TZOFFSETFROM:-0800
TZOFFSETTO:-0700
TZNAME:PDT
DTSTART:20240310T100000
END:DAYLIGHT
BEGIN:STANDARD
TZOFFSETFROM:-0700
TZOFFSETTO:-0800
TZNAME:PST
DTSTART:20241103T090000
END:STANDARD
BEGIN:DAYLIGHT
TZOFFSETFROM:-0800
TZOFFSETTO:-0700
TZNAME:PDT
DTSTART:20250309T100000
END:DAYLIGHT
BEGIN:STANDARD
TZOFFSETFROM:-0700
TZOFFSETTO:-0800
TZNAME:PST
DTSTART:20251102T090000
END:STANDARD
END:VTIMEZONE
BEGIN:VEVENT
DTSTART;TZID=America/Los_Angeles:20240318T183000
DTEND;TZID=America/Los_Angeles:20240318T203000
DTSTAMP:20260419T211520
CREATED:20231230T175453Z
LAST-MODIFIED:20240303T232525Z
UID:27566-1710786600-1710793800@cameraclublwv.org
SUMMARY:Club Night\, Clubhouse 7
DESCRIPTION:“Club Night” \nPresenter: Pat Burr\, one of her travelogues \nLocation: Clubhouse 7\, doors open 6:30PM\, presentation starts 6:45PM \nThe Club will get together for a short Showcase\, print tables for member work\, and time to enjoy light refreshment and wine\, and to socialize and meet with other Club members.
URL:https://cameraclublwv.org/event/club-night/
LOCATION:Clubhouse 7\, 24111 Moulton Pkwy\, Laguna Woods\, CA\, 92637\, United States
ORGANIZER;CN="Jack Salvador%2C 1st VP":MAILTO:firstvp@cameraclublwv.org
END:VEVENT
BEGIN:VEVENT
DTSTART;TZID=America/Los_Angeles:20240315T133000
DTEND;TZID=America/Los_Angeles:20240315T150000
DTSTAMP:20260419T211520
CREATED:20240214T191006Z
LAST-MODIFIED:20240214T191151Z
UID:27975-1710509400-1710514800@cameraclublwv.org
SUMMARY:Board Meeting\, Educational Classroom\, Clubhouse 4
DESCRIPTION:Board Meeting: \nClubhouse 4\, Educational classroom\, 1:30pm – 3:00pm \nAll members are welcome to attend. \nThe Board and Committee reports will be presented\, current and new projects will be discussed\, time will be allocated for questions and discussion. \nThe Board meetings are recorded. The recordings will be available on the Club website.
URL:https://cameraclublwv.org/event/board-meeting-educational-classroom-130-300pm/
LOCATION:Clubhouse 4\, 23501 Via Mariposa W\, Laguna Woods\, CA\, 92637\, United States
ORGANIZER;CN="John Cornell%2C President":MAILTO:president@cameraclublwv.org
END:VEVENT
BEGIN:VEVENT
DTSTART;TZID=America/Los_Angeles:20240305T180000
DTEND;TZID=America/Los_Angeles:20240305T200000
DTSTAMP:20260419T211520
CREATED:20240214T185925Z
LAST-MODIFIED:20240214T191126Z
UID:27968-1709661600-1709668800@cameraclublwv.org
SUMMARY:Open House: Photo Lab Clubhouse 4
DESCRIPTION:The 2nd Photo Lab “Open House” will be held from 6:00-8:00PM at Clubhouse 4. \nTour the facility\, meet other Club members\, view and discuss the photography work of two (2) members who will display their images. \nBring in your own images for discussion and feedback. \nLight refreshments will be served.
URL:https://cameraclublwv.org/event/open-house-photo-lab-600-800pm/
LOCATION:Clubhouse 4\, 23501 Via Mariposa W\, Laguna Woods\, CA\, 92637\, United States
ORGANIZER;CN="Jack Salvador%2C 1st VP":MAILTO:firstvp@cameraclublwv.org
END:VEVENT
BEGIN:VEVENT
DTSTART;TZID=America/Los_Angeles:20240301T100000
DTEND;TZID=America/Los_Angeles:20240301T103000
DTSTAMP:20260419T211520
CREATED:20240214T040355Z
LAST-MODIFIED:20240214T191211Z
UID:27958-1709287200-1709289000@cameraclublwv.org
SUMMARY:Workshop: “Beginning Matting”\, Jack Salvador\, Photo Lab
DESCRIPTION:Always thought about matting your images\, but never got around to doing it?  Not sure how to start? \nThis workshop will give you the fundamentals on how to matt your photographs\, with examples of three typical approaches to this essential part of displaying your images. \nRegister for this Workshop
URL:https://cameraclublwv.org/event/workshop-beginning-matting-jack-salvador-10-1130am/
LOCATION:Clubhouse 4\, 23501 Via Mariposa W\, Laguna Woods\, CA\, 92637\, United States
ORGANIZER;CN="Jack Salvador%2C 1st VP":MAILTO:firstvp@cameraclublwv.org
END:VEVENT
BEGIN:VEVENT
DTSTART;TZID=America/Los_Angeles:20240227T133000
DTEND;TZID=America/Los_Angeles:20240227T153000
DTSTAMP:20260419T211520
CREATED:20240214T022527Z
LAST-MODIFIED:20240214T022612Z
UID:27952-1709040600-1709047800@cameraclublwv.org
SUMMARY:Class: Beginning Photography – Part 2\, David Dearing
DESCRIPTION:Part 2\, of a two session workshop. \nFor Beginner to Intermediate photographers\, we will cover a broad range of topics: composition\, lighting\, post processing and sharing among others. \nTaught by some of the Club’s most recognizable long-time members:  David Dearing\, Mark Rabinowitch\, Joel Goldstein\, and Peter Battin. \nRegistration link in the Part 1 listing on this calendar.
URL:https://cameraclublwv.org/event/class-beginning-photography-part-2/
LOCATION:Clubhouse 4\, 23501 Via Mariposa W\, Laguna Woods\, CA\, 92637\, United States
ORGANIZER;CN="Mary Madden%2C 2nd VP":MAILTO:secondvp@cameraclublwv.org
END:VEVENT
BEGIN:VEVENT
DTSTART;TZID=America/Los_Angeles:20240226T133000
DTEND;TZID=America/Los_Angeles:20240226T153000
DTSTAMP:20260419T211520
CREATED:20240214T022022Z
LAST-MODIFIED:20240214T022833Z
UID:27947-1708954200-1708961400@cameraclublwv.org
SUMMARY:Class: Beginning Photography – Part 1\, David Dearing
DESCRIPTION:Part 1\, of a two session workshop. \nFor Beginner to Intermediate photographers\, we will cover a broad range of topics: composition\, lighting\, post processing and sharing among others. \nTaught by some of the Club’s most recognizable long-time members:  David Dearing\, Mark Rabinowitch\, Joel Goldstein\, and Peter Battin. \nRegister for this class
URL:https://cameraclublwv.org/event/class-beginning-photography-part-1/
LOCATION:Clubhouse 4\, 23501 Via Mariposa W\, Laguna Woods\, CA\, 92637\, United States
ORGANIZER;CN="Mary Madden%2C 2nd VP":MAILTO:secondvp@cameraclublwv.org
END:VEVENT
BEGIN:VEVENT
DTSTART;TZID=America/Los_Angeles:20240224T100000
DTEND;TZID=America/Los_Angeles:20240224T120000
DTSTAMP:20260419T211520
CREATED:20240214T020656Z
LAST-MODIFIED:20240214T191237Z
UID:27941-1708768800-1708776000@cameraclublwv.org
SUMMARY:Critique – Non-Scoring:\, Clubhouse 4
DESCRIPTION:Special Subject “Curves” \nSubmission Deadline: Tuesday Feb. 20th\, 5PM \nThere will be an ‘extra’ Critique provided for members who have not previously submitted to a Club Critique\, OR who have not submitted to a Critique for more than 12 months. The Critique will be Non-Scored – our Judge will be Rick Graves\, Saddleback Educator\, and long-time Club member.  \nDon’t miss this opportunity to receive feedback and guidance from one of the most esteemed educators in OC. \nComments will focus on technical and artistic guidance. Look for details in an email flyer. A workshop on how to prepare images and submit to a Critique will be provided in advance of this event. \nCritique Submission Rules
URL:https://cameraclublwv.org/event/non-scoring-critique-10am-12pm/
LOCATION:Clubhouse 4\, 23501 Via Mariposa W\, Laguna Woods\, CA\, 92637\, United States
ORGANIZER;CN="Jack Salvador%2C 1st VP":MAILTO:firstvp@cameraclublwv.org
END:VEVENT
BEGIN:VEVENT
DTSTART;TZID=America/Los_Angeles:20240220T170000
DTEND;TZID=America/Los_Angeles:20240220T170000
DTSTAMP:20260419T211520
CREATED:20240214T021041Z
LAST-MODIFIED:20240214T021131Z
UID:27945-1708448400-1708448400@cameraclublwv.org
SUMMARY:Submission Deadline: Non-Scoring Critique 5PM
DESCRIPTION:Submit your images for the Feb. 24th non-scoring Critique by 5PM today. \nImages should be emailed to the address defined in the Critique Submission rules. \nCritique Submission Rules
URL:https://cameraclublwv.org/event/submission-deadline-non-scoring-critique-5pm/
LOCATION:Critiques Email Submission
ORGANIZER;CN="Jack Salvador%2C 1st VP":MAILTO:firstvp@cameraclublwv.org
END:VEVENT
BEGIN:VEVENT
DTSTART;TZID=America/Los_Angeles:20240219T190000
DTEND;TZID=America/Los_Angeles:20240219T203000
DTSTAMP:20260419T211520
CREATED:20231230T175118Z
LAST-MODIFIED:20231230T175118Z
UID:27561-1708369200-1708374600@cameraclublwv.org
SUMMARY:Showcase: “Astral Photography”\, David Churchhill
DESCRIPTION:“Astral Photography” \nPresenter: David A. Churchhill \nLocation: Clubhouse 7\, doors open 6:30PM for refreshments\, presentation starts at 7:00PM \nAstronomical photography captures objects and celestial events\, including dim stars\, nebulae\, and galaxies. This type of photography requires sophisticated techniques and optimum locations. David excels on both counts – he often photographs from his personal observatory in the mountains of Chile\, and he is a master of the methods and processes needed to create extradinary astral photographs\, and his images are spectacular! Join us for this special event.
URL:https://cameraclublwv.org/event/showcase-astral-photography-david-churchhill/
LOCATION:Clubhouse 7\, 24111 Moulton Pkwy\, Laguna Woods\, CA\, 92637\, United States
ORGANIZER;CN="Jack Salvador%2C 1st VP":MAILTO:firstvp@cameraclublwv.org
END:VEVENT
BEGIN:VEVENT
DTSTART;TZID=America/Los_Angeles:20240216T150000
DTEND;TZID=America/Los_Angeles:20240216T153000
DTSTAMP:20260419T211520
CREATED:20231230T183855Z
LAST-MODIFIED:20231230T184104Z
UID:27592-1708095600-1708097400@cameraclublwv.org
SUMMARY:Board-Committee Leads Meeting
DESCRIPTION:The Committee Chairs and Photo Lab Lead meet for a 1/2 hour planning meeting. \nLocation: Clubhouse 7\, Educational classroom\,  3:00PM-3:30PM \nCOMMITTEES\nEducational\nHospitality\nMembership\nOutreach\nPublicity\nShowcases/Critiques\nAND\nPhotoLab
URL:https://cameraclublwv.org/event/board-committee-leads-meeting-2/
LOCATION:Clubhouse 4\, 23501 Via Mariposa W\, Laguna Woods\, CA\, 92637\, United States
ORGANIZER;CN="John Cornell%2C President":MAILTO:president@cameraclublwv.org
END:VEVENT
BEGIN:VEVENT
DTSTART;TZID=America/Los_Angeles:20240216T133000
DTEND;TZID=America/Los_Angeles:20240216T150000
DTSTAMP:20260419T211520
CREATED:20231230T183500Z
LAST-MODIFIED:20240303T234046Z
UID:27587-1708090200-1708095600@cameraclublwv.org
SUMMARY:Board Meeting
DESCRIPTION:Board Meeting:  \nClubhouse 4\, Educational classroom\, 1:30pm – 3:00pm \nAll members are welcome to attend.  \nThe Board and Committee reports will be presented\, current and new projects will be discussed\, time will be allocated for questions and discussion.
URL:https://cameraclublwv.org/event/board-meeting-14/
LOCATION:Clubhouse 4\, 23501 Via Mariposa W\, Laguna Woods\, CA\, 92637\, United States
ORGANIZER;CN="John Cornell%2C President":MAILTO:president@cameraclublwv.org
END:VEVENT
BEGIN:VEVENT
DTSTART;TZID=America/Los_Angeles:20240213T133000
DTEND;TZID=America/Los_Angeles:20240213T153000
DTSTAMP:20260419T211520
CREATED:20240108T003558Z
LAST-MODIFIED:20240108T003651Z
UID:27700-1707831000-1707838200@cameraclublwv.org
SUMMARY:Class: “Get the Picture Using Design Elements”\, Penni Rubin
DESCRIPTION:“Get the Picture Using Design Elements” \n	Penni Rubin \n	FEBRUARY 13th\, Tuesday 1:30-3:30PM \n	Clubhouse #4\, Photography classroom
URL:https://cameraclublwv.org/event/class-get-the-picture-using-design-elements-penni-rubin/
LOCATION:Clubhouse 4\, 23501 Via Mariposa W\, Laguna Woods\, CA\, 92637\, United States
ORGANIZER;CN="Mary Madden%2C 2nd VP":MAILTO:secondvp@cameraclublwv.org
END:VEVENT
BEGIN:VEVENT
DTSTART;TZID=America/Los_Angeles:20240123T100000
DTEND;TZID=America/Los_Angeles:20240123T120000
DTSTAMP:20260419T211520
CREATED:20240107T235324Z
LAST-MODIFIED:20240107T235913Z
UID:27691-1706004000-1706011200@cameraclublwv.org
SUMMARY:Class: Color Management #3\, Faro Mohahedi
DESCRIPTION:“Color Management“ \nFaro Mohahedi \nTuesday  January 23\, Clubhouse 4\, 10AM-12:00PM \nCamera Club member Faro Mohahedi presents a 3rd “Master Class” in color management of images for print and online presentations. NOTE: limited class size. \nLook for the invite email flyer.
URL:https://cameraclublwv.org/event/class-color-management-3-faro-mohahedi/
LOCATION:Clubhouse 4\, 23501 Via Mariposa W\, Laguna Woods\, CA\, 92637\, United States
ORGANIZER;CN="Mary Madden%2C 2nd VP":MAILTO:secondvp@cameraclublwv.org
END:VEVENT
BEGIN:VEVENT
DTSTART;TZID=America/Los_Angeles:20240122T183000
DTEND;TZID=America/Los_Angeles:20240122T200000
DTSTAMP:20260419T211520
CREATED:20231230T174022Z
LAST-MODIFIED:20231230T181406Z
UID:27554-1705948200-1705953600@cameraclublwv.org
SUMMARY:Critique – “Curves”
DESCRIPTION:Digital Critique\, Zoom\, start 6:30PM \nSpecial Subject “Curves”  \nCurves within photographic images can add a dynamic and aesthetic aspect to the composition. Either incorporated within the internal structure of an image\, or as a captured object\, shape\, or pattern\, curves are often a powerful element in photography. “Curved lines photography” can capture and highlight the beauty of bent shapes and lines in various objects\, or curves can deliberately guide the eye to a specific area. Curves can be implied\, or partial\, or replicate known shapes like the letter “C”\, or the letter “S”\, which In painting\, is know as the “the line of beauty”\, an S-curve line that travels back and forth horizontally through an image as the eye proceeds vertically through the scene. Create a photograph that utilizes curves.
URL:https://cameraclublwv.org/event/critique-curves/
LOCATION:Zoom\, Laguna Woods\, CA\, United States
ORGANIZER;CN="Jack Salvador%2C 1st VP":MAILTO:firstvp@cameraclublwv.org
END:VEVENT
BEGIN:VEVENT
DTSTART;TZID=America/Los_Angeles:20240119T150000
DTEND;TZID=America/Los_Angeles:20240119T153000
DTSTAMP:20260419T211520
CREATED:20231230T183119Z
LAST-MODIFIED:20231230T183758Z
UID:27584-1705676400-1705678200@cameraclublwv.org
SUMMARY:Board-Committee Chairs Meeting
DESCRIPTION:The Committee Chairs and Photo Lab Lead meet for a 1/2 hour planning meeting. \nLocation: Clubhouse 7\, Educational classroom\,  3:00PM-3:30PM \nCOMMITTEES\nEducational\nHospitality\nMembership\nOutreach\nPublicity\nShowcases/Critiques\nAND\nPhotoLab
URL:https://cameraclublwv.org/event/board-committee-leads-meeting/
LOCATION:Clubhouse 4\, 23501 Via Mariposa W\, Laguna Woods\, CA\, 92637\, United States
ORGANIZER;CN="John Cornell%2C President":MAILTO:president@cameraclublwv.org
END:VEVENT
BEGIN:VEVENT
DTSTART;TZID=America/Los_Angeles:20240119T133000
DTEND;TZID=America/Los_Angeles:20240119T150000
DTSTAMP:20260419T211520
CREATED:20231230T182236Z
LAST-MODIFIED:20231230T183158Z
UID:27577-1705671000-1705676400@cameraclublwv.org
SUMMARY:Board Meeting
DESCRIPTION:Board Meeting:  \nClubhouse 4\, Educational classroom\, 1:30pm – 3:00pm \nAll members are welcome to attend.  \nThe Board and Committee reports will be presented\, current and new projects will be discussed\, time will be allocated for questions and discussion. \nThe Board meetings are recorded. The recordings will be available on the Club website.
URL:https://cameraclublwv.org/event/board-meeting-5/
LOCATION:Clubhouse 4\, 23501 Via Mariposa W\, Laguna Woods\, CA\, 92637\, United States
ORGANIZER;CN="John Cornell%2C President":MAILTO:president@cameraclublwv.org
END:VEVENT
BEGIN:VEVENT
DTSTART;TZID=America/Los_Angeles:20240117T080000
DTEND;TZID=America/Los_Angeles:20240117T170000
DTSTAMP:20260419T211520
CREATED:20231230T181630Z
LAST-MODIFIED:20231230T181708Z
UID:27575-1705478400-1705510800@cameraclublwv.org
SUMMARY:Submission Deadline: Critique – “Curves”
DESCRIPTION:Submission Deadline 5PM via email. \nSee email flyer and Critiques landing page for submission details. \nCritiques \n \nSpecial Subject “Curves”  \nCurves within photographic images can add a dynamic and aesthetic aspect to the composition. Either incorporated within the internal structure of an image\, or as a captured object\, shape\, or pattern\, curves are often a powerful element in photography. “Curved lines photography” can capture and highlight the beauty of bent shapes and lines in various objects\, or curves can deliberately guide the eye to a specific area. Curves can be implied\, or partial\, or replicate known shapes like the letter “C”\, or the letter “S”\, which In painting\, is know as the “the line of beauty”\, an S-curve line that travels back and forth horizontally through an image as the eye proceeds vertically through the scene. Create a photograph that utilizes curves.
URL:https://cameraclublwv.org/event/submission-deadline-critique-curves-2/
LOCATION:Critiques Email Submission
ORGANIZER;CN="Jack Salvador%2C 1st VP":MAILTO:firstvp@cameraclublwv.org
END:VEVENT
BEGIN:VEVENT
DTSTART;TZID=America/Los_Angeles:20240115T190000
DTEND;TZID=America/Los_Angeles:20240115T203000
DTSTAMP:20260419T211520
CREATED:20231230T174608Z
LAST-MODIFIED:20240104T192435Z
UID:27559-1705345200-1705350600@cameraclublwv.org
SUMMARY:Showcase: “Playing Chicken With Charging Elephants”\, Paul Renner
DESCRIPTION:“Playing Chicken With Charging Elephants” \nPresenter: Paul Renner \nLocation: Clubhouse 7\,  Doors open at 6:30PM for refreshments\, presentation starts at 7:00PM \nPaul Renner is a well-known professional safari guide and photographer\, working at a world-class level. Paul is a good friend of our Camera Club\, and has agreed to kick off the 2024 Showcases! Pual has powerful and exquisite images from over 20 years of adventure travel in Africa. Take time to see his beautiful\, and powerful images\, and to hear some of his amazing stories from the trail. Don’t miss this special Showcase!
URL:https://cameraclublwv.org/event/showcase-african-safari-paul-renner/
LOCATION:Clubhouse 7\, 24111 Moulton Pkwy\, Laguna Woods\, CA\, 92637\, United States
ORGANIZER;CN="Jack Salvador%2C 1st VP":MAILTO:firstvp@cameraclublwv.org
END:VEVENT
BEGIN:VEVENT
DTSTART;TZID=America/Los_Angeles:20231230T080000
DTEND;TZID=America/Los_Angeles:20231230T170000
DTSTAMP:20260419T211520
CREATED:20231230T174331Z
LAST-MODIFIED:20231230T174331Z
UID:27557-1703923200-1703955600@cameraclublwv.org
SUMMARY:Submission Deadline – Critique “Curves”
DESCRIPTION:Submission Deadline for Critique 5PM \nFollow submission rules in email flyer \n“Curves”\nCurves within photographic images can add a dynamic and aesthetic aspect to the composition. Either incorporated within the internal structure of an image\, or as a captured object\, shape\, or pattern\, curves are often a powerful element in photography. “Curved lines photography” can capture and highlight the beauty of bent shapes and lines in various objects\, or curves can deliberately guide the eye to a specific area. Curves can be implied\, or partial\, or replicate known shapes like the letter “C”\, or the letter “S”\, which In painting\, is know as the “the line of beauty”\, an S-curve line that travels back and forth horizontally through an image as the eye proceeds vertically through the scene. Create a photograph that utilizes curves.
URL:https://cameraclublwv.org/event/submission-deadline-critique-curves/
LOCATION:CA
END:VEVENT
BEGIN:VEVENT
DTSTART;TZID=America/Los_Angeles:20231219T100000
DTEND;TZID=America/Los_Angeles:20231219T120000
DTSTAMP:20260419T211520
CREATED:20231128T061027Z
LAST-MODIFIED:20231128T061027Z
UID:27214-1702980000-1702987200@cameraclublwv.org
SUMMARY:Class: Color Management (#2)
DESCRIPTION:“Color Management “\nFaro Mohahedi\nDECEMBER 19\, Tuesday Clubhouse 4\nCamera Club member Faro Mohahedi presents a 2nd “Master Class” in color management of images for print and online presentations. NOTE: limited class size.
URL:https://cameraclublwv.org/event/class-color-management-2/
LOCATION:Clubhouse 4\, 23501 Via Mariposa W\, Laguna Woods\, CA\, 92637\, United States
ORGANIZER;CN="Beth Schipper":MAILTO:schipperbeth@yahoo.com
END:VEVENT
BEGIN:VEVENT
DTSTART;TZID=America/Los_Angeles:20231216T100000
DTEND;TZID=America/Los_Angeles:20240116T170000
DTSTAMP:20260419T211521
CREATED:20231027T034548Z
LAST-MODIFIED:20231027T034555Z
UID:26943-1702720800-1705424400@cameraclublwv.org
SUMMARY:OC Camera Gallery Show
DESCRIPTION:The Camera Club will have a group show at the OC Gallery in Laguna Hills\, from December 16\,2023-January 16\, 2024 \nMembers can submit images for the jury to consider up to NOV. 6th\, 2023. \nThe email flyer with details has been sent.
URL:https://cameraclublwv.org/event/oc-camera-gallery-show/
LOCATION:OC Camera Gallery\, 23052 Lake Forest Dr # D1\, Laguna Hills\, CA\, 92637\, United States
END:VEVENT
BEGIN:VEVENT
DTSTART;TZID=America/Los_Angeles:20231215T133000
DTEND;TZID=America/Los_Angeles:20231215T150000
DTSTAMP:20260419T211521
CREATED:20230114T194449Z
LAST-MODIFIED:20230423T163957Z
UID:23979-1702647000-1702652400@cameraclublwv.org
SUMMARY:Board Meeting
DESCRIPTION:
URL:https://cameraclublwv.org/event/board-meeting-13/
LOCATION:Clubhouse 4\, 23501 Via Mariposa W\, Laguna Woods\, CA\, 92637\, United States
CATEGORIES:Board Meeting
END:VEVENT
BEGIN:VEVENT
DTSTART;TZID=America/Los_Angeles:20231215T100000
DTEND;TZID=America/Los_Angeles:20231215T120000
DTSTAMP:20260419T211521
CREATED:20231128T061254Z
LAST-MODIFIED:20231128T061322Z
UID:27216-1702634400-1702641600@cameraclublwv.org
SUMMARY:Class: iPhone Photography
DESCRIPTION:Kim Signoret Paar\nDECEMBER 15\, Friday 10AM-12:00PM\nLearn about iPhone photography from a master iPhone photographer and educator.
URL:https://cameraclublwv.org/event/iphone-photography/
LOCATION:Clubhouse 4\, 23501 Via Mariposa W\, Laguna Woods\, CA\, 92637\, United States
ORGANIZER;CN="Beth Schipper":MAILTO:schipperbeth@yahoo.com
END:VEVENT
BEGIN:VEVENT
DTSTART;TZID=America/Los_Angeles:20231211T170000
DTEND;TZID=America/Los_Angeles:20231211T203000
DTSTAMP:20260419T211521
CREATED:20230112T175612Z
LAST-MODIFIED:20231202T205354Z
UID:23713-1702314000-1702326600@cameraclublwv.org
SUMMARY:Holiday Dinner & Awards Competition
DESCRIPTION:Join us at the Year-End-Competition and Awards dinner in Clubhouse 7. \nDoors open at 6PM for socializing and refreshments. \nDinner and the awards to follow. \nLook for details in the event flyer sent via email.
URL:https://cameraclublwv.org/event/showcase-12/
LOCATION:Clubhouse 7\, 24111 Moulton Pkwy\, Laguna Woods\, CA\, 92637\, United States
CATEGORIES:Showcase
END:VEVENT
BEGIN:VEVENT
DTSTART;TZID=America/Los_Angeles:20231208T130000
DTEND;TZID=America/Los_Angeles:20231208T150000
DTSTAMP:20260419T211521
CREATED:20230817T044343Z
LAST-MODIFIED:20231027T040627Z
UID:26292-1702040400-1702047600@cameraclublwv.org
SUMMARY:Class: “Travel Photography”\, Mary Madden
DESCRIPTION:“Travel Photography” \nMary Madden \nNOVEMBER 10\, Friday 1:00PM-3:00PM \nA avid traveler and photographer\, Mary gives us tips on travel photography\, including packing camera equipment. \nClubhouse #4\, Photography classroom
URL:https://cameraclublwv.org/event/class-travel-photography-mary-madden/
LOCATION:Clubhouse 4\, 23501 Via Mariposa W\, Laguna Woods\, CA\, 92637\, United States
CATEGORIES:Class
ORGANIZER;CN="Beth Schipper":MAILTO:schipperbeth@yahoo.com
END:VEVENT
BEGIN:VEVENT
DTSTART;TZID=America/Los_Angeles:20231205T100000
DTEND;TZID=America/Los_Angeles:20231205T120000
DTSTAMP:20260419T211521
CREATED:20231027T040523Z
LAST-MODIFIED:20231027T040523Z
UID:26952-1701770400-1701777600@cameraclublwv.org
SUMMARY:Class: Android Photography – Tips & Tricks
DESCRIPTION:“Android Photography: Tips & Tricks”\nJoel Sigman\nDECEMBER 5\, Tuesday 10:00AM-12:00PM\nClubhouse #4\, Photography classroom
URL:https://cameraclublwv.org/event/class-android-photography-tips-tricks/
LOCATION:Clubhouse 4\, 23501 Via Mariposa W\, Laguna Woods\, CA\, 92637\, United States
END:VEVENT
BEGIN:VEVENT
DTSTART;TZID=America/Los_Angeles:20231201T130000
DTEND;TZID=America/Los_Angeles:20231201T150000
DTSTAMP:20260419T211521
CREATED:20231027T040402Z
LAST-MODIFIED:20231202T205144Z
UID:26950-1701435600-1701442800@cameraclublwv.org
SUMMARY:Class: Making Photo Books
DESCRIPTION:“Making Photo Books”\nSteve Kaye\nDECEMBER 1\, Friday ZOOM\nA professional photographer\, educator\, and long-time photo book creator\, Steve Kaye will show you how to turn your images into a beautiful digital or print book.
URL:https://cameraclublwv.org/event/class-making-photo-books/
LOCATION:Zoom\, Laguna Woods\, CA\, United States
END:VEVENT
BEGIN:VEVENT
DTSTART;TZID=America/Los_Angeles:20231128T130000
DTEND;TZID=America/Los_Angeles:20231128T150000
DTSTAMP:20260419T211521
CREATED:20231027T040107Z
LAST-MODIFIED:20231128T060845Z
UID:26948-1701176400-1701183600@cameraclublwv.org
SUMMARY:Class: Color Management
DESCRIPTION:“Color Management “\nFaro Mohahedi\nNOVEMBER 28\, Tuesday Clubhouse 4\nCamera Club member Faro Mohahedi presents a “Master Class” in color management of images for print and online presentations. NOTE: limited class size.
URL:https://cameraclublwv.org/event/class-color-management/
LOCATION:Clubhouse 4\, 23501 Via Mariposa W\, Laguna Woods\, CA\, 92637\, United States
END:VEVENT
BEGIN:VEVENT
DTSTART;TZID=America/Los_Angeles:20231128T120000
DTEND;TZID=America/Los_Angeles:20231128T140000
DTSTAMP:20260419T211521
CREATED:20230817T043220Z
LAST-MODIFIED:20230817T043220Z
UID:26283-1701172800-1701180000@cameraclublwv.org
SUMMARY:Class: “Photoshop – Intermediate”\, Art Ramirez (7 of 7)
DESCRIPTION:“Photoshop – Intermediate”\nArt Ramirez \nOCTOBER 13 though NOVEMBER 28 \nClass 1 Friday 12:00PM-2:00PM\nClass 2-7 Tuesdays\, 12:00PM-2:00PM \n(no class on the Nov 21 week of Thanksgiving) \n$70 for 7 classes \nZoom
URL:https://cameraclublwv.org/event/class-photoshop-intermediate-art-ramirez-7-of-7/
LOCATION:Zoom\, Laguna Woods\, CA\, United States
CATEGORIES:Class
ORGANIZER;CN="Beth Schipper":MAILTO:schipperbeth@yahoo.com
END:VEVENT
BEGIN:VEVENT
DTSTART;TZID=America/Los_Angeles:20231128T090000
DTEND;TZID=America/Los_Angeles:20231128T110000
DTSTAMP:20260419T211521
CREATED:20230817T044940Z
LAST-MODIFIED:20230817T044940Z
UID:26296-1701162000-1701169200@cameraclublwv.org
SUMMARY:Class: “Elements – Intermediate”\, Art Ramirez (7 of 7)
DESCRIPTION:“Elements – Intermediate” \nArt Ramirez \nOCTOBER 13 though NOVEMBER 28\nClass 1 Friday 9:00AM-11:00AM\nClass 2-7 Tuesdays 9:00AM-11:00AM \n(no class on the Nov 21 week of Thanksgiving) \n$70 for 7 classes \nZoom
URL:https://cameraclublwv.org/event/class-elements-intermediate-art-ramirez-7-of-7/
LOCATION:Zoom\, Laguna Woods\, CA\, United States
CATEGORIES:Class
ORGANIZER;CN="Beth Schipper":MAILTO:schipperbeth@yahoo.com
END:VEVENT
END:VCALENDAR