BEGIN:VCALENDAR
VERSION:2.0
PRODID:-//Camera Club of Laguna Woods Village - ECPv6.15.20//NONSGML v1.0//EN
CALSCALE:GREGORIAN
METHOD:PUBLISH
X-WR-CALNAME:Camera Club of Laguna Woods Village
X-ORIGINAL-URL:https://cameraclublwv.org
X-WR-CALDESC:Events for Camera Club of Laguna Woods Village
REFRESH-INTERVAL;VALUE=DURATION:PT1H
X-Robots-Tag:noindex
X-PUBLISHED-TTL:PT1H
BEGIN:VTIMEZONE
TZID:America/Los_Angeles
BEGIN:DAYLIGHT
TZOFFSETFROM:-0800
TZOFFSETTO:-0700
TZNAME:PDT
DTSTART:20220313T100000
END:DAYLIGHT
BEGIN:STANDARD
TZOFFSETFROM:-0700
TZOFFSETTO:-0800
TZNAME:PST
DTSTART:20221106T090000
END:STANDARD
BEGIN:DAYLIGHT
TZOFFSETFROM:-0800
TZOFFSETTO:-0700
TZNAME:PDT
DTSTART:20230312T100000
END:DAYLIGHT
BEGIN:STANDARD
TZOFFSETFROM:-0700
TZOFFSETTO:-0800
TZNAME:PST
DTSTART:20231105T090000
END:STANDARD
BEGIN:DAYLIGHT
TZOFFSETFROM:-0800
TZOFFSETTO:-0700
TZNAME:PDT
DTSTART:20240310T100000
END:DAYLIGHT
BEGIN:STANDARD
TZOFFSETFROM:-0700
TZOFFSETTO:-0800
TZNAME:PST
DTSTART:20241103T090000
END:STANDARD
END:VTIMEZONE
BEGIN:VEVENT
DTSTART;TZID=America/Los_Angeles:20230201T090000
DTEND;TZID=America/Los_Angeles:20230201T110000
DTSTAMP:20260421T171411
CREATED:20230122T192845Z
LAST-MODIFIED:20230122T192845Z
UID:24542-1675242000-1675249200@cameraclublwv.org
SUMMARY:ART RAMIREZ RETURNS! Photoshop Elements Beginning Class for PC or MAC
DESCRIPTION:Zoom meeting information \n\n\n\n\nART RAMIREZ RETURNS! \nPhotoshop Elements Beginning Class for PC or MAC
URL:https://cameraclublwv.org/event/art-ramirez-returns-photoshop-elements-beginning-class-for-pc-or-mac/
LOCATION:Zoom\, Laguna Woods\, CA\, United States
CATEGORIES:Workshop/class
END:VEVENT
BEGIN:VEVENT
DTSTART;TZID=America/Los_Angeles:20230127T133000
DTEND;TZID=America/Los_Angeles:20230127T170000
DTSTAMP:20260421T171411
CREATED:20230113T050341Z
LAST-MODIFIED:20230119T224107Z
UID:23820-1674826200-1674838800@cameraclublwv.org
SUMMARY:Workshop (Class)
DESCRIPTION:David Cl;ass  is once again offering this two-session class which covers the basics of photography \nLink for information on workshop/class \n  \n  \n 
URL:https://cameraclublwv.org/event/david-dearing-is-once-again-offering-this-two-session-class-which-covers-the-basics-of-photography/
LOCATION:CA
CATEGORIES:Workshop/class
END:VEVENT
BEGIN:VEVENT
DTSTART;TZID=America/Los_Angeles:20230123T180000
DTEND;TZID=America/Los_Angeles:20230123T193000
DTSTAMP:20260421T171411
CREATED:20230112T172700Z
LAST-MODIFIED:20230121T185538Z
UID:23686-1674496800-1674502200@cameraclublwv.org
SUMMARY:Digital Critique
DESCRIPTION:Special Subject:Night \nJudge: Joanne Stolte  has judged for us over many years.  Her last three visits to our club to serve as a judge we’re in March 2018\, and January 2019 and January 2020.  She is a prominent PSA (Photographic Society of America) judge and has traveled internationally to judge photo competitions. \nInformation on Zoom Call
URL:https://cameraclublwv.org/event/digital-critique/
LOCATION:Zoom\, Laguna Woods\, CA\, United States
CATEGORIES:Critigue
END:VEVENT
BEGIN:VEVENT
DTSTART;TZID=America/Los_Angeles:20230113T130000
DTEND;TZID=America/Los_Angeles:20230113T170000
DTSTAMP:20260421T171412
CREATED:20230114T193246Z
LAST-MODIFIED:20230114T193246Z
UID:23955-1673614800-1673629200@cameraclublwv.org
SUMMARY:Board Meeting
DESCRIPTION:
URL:https://cameraclublwv.org/event/board-meeting/
LOCATION:Clubhouse 4\, 23501 Via Mariposa W\, Laguna Woods\, CA\, 92637\, United States
CATEGORIES:Board Meeting
END:VEVENT
BEGIN:VEVENT
DTSTART;TZID=America/Los_Angeles:20230112T180000
DTEND;TZID=America/Los_Angeles:20230112T200000
DTSTAMP:20260421T171412
CREATED:20230112T181102Z
LAST-MODIFIED:20230113T164812Z
UID:23721-1673546400-1673553600@cameraclublwv.org
SUMMARY:Digital Critique
DESCRIPTION:Special Subject. Minimalism
URL:https://cameraclublwv.org/event/critique-4/
LOCATION:Zoom\, Laguna Woods\, CA\, United States
CATEGORIES:Critigue
ORGANIZER;CN="Louise Stuart":MAILTO:cameraclublh@gmail.com
END:VEVENT
BEGIN:VEVENT
DTSTART;TZID=America/Los_Angeles:20230105T170000
DTEND;TZID=America/Los_Angeles:20230105T200000
DTSTAMP:20260421T171412
CREATED:20221214T224909Z
LAST-MODIFIED:20221230T055629Z
UID:22650-1672938000-1672948800@cameraclublwv.org
SUMMARY:2022 Year End Awards Dinner
DESCRIPTION:Clubhouse #1\, cocktail hour 5PM\, dinner at 6PM. \nDownload RSVP
URL:https://cameraclublwv.org/event/2022-year-end-awards-dinner/
LOCATION:CA
END:VEVENT
END:VCALENDAR