BEGIN:VCALENDAR
VERSION:2.0
PRODID:-//Camera Club of Laguna Woods Village - ECPv6.15.20//NONSGML v1.0//EN
CALSCALE:GREGORIAN
METHOD:PUBLISH
X-WR-CALNAME:Camera Club of Laguna Woods Village
X-ORIGINAL-URL:https://cameraclublwv.org
X-WR-CALDESC:Events for Camera Club of Laguna Woods Village
REFRESH-INTERVAL;VALUE=DURATION:PT1H
X-Robots-Tag:noindex
X-PUBLISHED-TTL:PT1H
BEGIN:VTIMEZONE
TZID:America/Los_Angeles
BEGIN:DAYLIGHT
TZOFFSETFROM:-0800
TZOFFSETTO:-0700
TZNAME:PDT
DTSTART:20220313T100000
END:DAYLIGHT
BEGIN:STANDARD
TZOFFSETFROM:-0700
TZOFFSETTO:-0800
TZNAME:PST
DTSTART:20221106T090000
END:STANDARD
BEGIN:DAYLIGHT
TZOFFSETFROM:-0800
TZOFFSETTO:-0700
TZNAME:PDT
DTSTART:20230312T100000
END:DAYLIGHT
BEGIN:STANDARD
TZOFFSETFROM:-0700
TZOFFSETTO:-0800
TZNAME:PST
DTSTART:20231105T090000
END:STANDARD
BEGIN:DAYLIGHT
TZOFFSETFROM:-0800
TZOFFSETTO:-0700
TZNAME:PDT
DTSTART:20240310T100000
END:DAYLIGHT
BEGIN:STANDARD
TZOFFSETFROM:-0700
TZOFFSETTO:-0800
TZNAME:PST
DTSTART:20241103T090000
END:STANDARD
END:VTIMEZONE
BEGIN:VEVENT
DTSTART;TZID=America/Los_Angeles:20230814T190000
DTEND;TZID=America/Los_Angeles:20230814T200000
DTSTAMP:20260419T142824
CREATED:20230531T163045Z
LAST-MODIFIED:20230819T052720Z
UID:25610-1692039600-1692043200@cameraclublwv.org
SUMMARY:Showcase – “The Unique World of an Underwater Photographer”\, Dale Kobetich (refreshments 6:30)
DESCRIPTION:Clubhouse #2\, main ball room\, 6:30-9:00PM. \nDoors open at 6:30PM for refreshments and socializing. Showcase begins at 7PM. \nWell known and local ocean photographer Dale Kobetich presents his fascinating “Underwater & Tide Pool Photography”.  \nDale is a quality photographer\, respected for his interesting\, and innovative\, images of underwater sea-life\, and tide pool ecosystems.  \nDale has personally invented specialty camera equipment and image-taking techniques for ocean photography.  \nDon’t miss the chance to see Dale’s impressive presentation.
URL:https://cameraclublwv.org/event/showcase-india/
LOCATION:Clubhouse 2\, 24112 Moulton Pkwy\, Laguna Woods\, CA\, 92637\, United States
END:VEVENT
BEGIN:VEVENT
DTSTART;TZID=America/Los_Angeles:20230812T100000
DTEND;TZID=America/Los_Angeles:20230812T120000
DTSTAMP:20260419T142824
CREATED:20230807T173052Z
LAST-MODIFIED:20230807T181548Z
UID:26194-1691834400-1691841600@cameraclublwv.org
SUMMARY:Equipment Sale – PhotoLab
DESCRIPTION:The entire Club inventory of donated cameras will be made available this Saturday August 12th – at a $5 donation per item! \nWant a point-and-shoot\, a “bridge” camera\, or a starter DSLR? Stop by the Photo Lab Saturday between 10AM-12PM. \nPeruse the collection of donated cameras – Canon\, Sony\, Nikon\, and more. One item for one $5 donation. \nNOTE: these are mainly later model cameras\, so not exactly up to date\, but possibly could be good as learning equipment. \nALSO\, all items are offered “as-is”. The Club does NOT provide any warranties or servicing for the cameras. \nIt’s also possible that there may be some studio equipment available\, like light stands\, but that’s still in the works. \nAnd PAYPAL at the Photo Lab \nThe Photo Lab now taking PayPal payments. Scan the Club QR code\, enter the amount owed for your camera\, or prints\, or membership\, and submit your payment. Easy peasy. \nThe Photo Lab is located at Clubhouse 4\, directly opposite the pool entry. Click here for a PDF map of the Lab location.
URL:https://cameraclublwv.org/event/equipment-sale-photolab/
LOCATION:Clubhouse 4\, 23501 Via Mariposa W\, Laguna Woods\, CA\, 92637\, United States
ORGANIZER;CN="Jack Salvador%2C 1st VP":MAILTO:firstvp@cameraclublwv.org
END:VEVENT
BEGIN:VEVENT
DTSTART;TZID=America/Los_Angeles:20230811T130000
DTEND;TZID=America/Los_Angeles:20230811T150000
DTSTAMP:20260419T142824
CREATED:20230627T224018Z
LAST-MODIFIED:20230717T161748Z
UID:25832-1691758800-1691766000@cameraclublwv.org
SUMMARY:Class: “Black and White Conversion and Printing”\, Barry Evans
DESCRIPTION:Barry Evans\, designated “Master B&W Printer” by Epson\, will be teaching the class. \nDon’t miss this opportunity to learn from this highly skilled and recognized photographer. \nFree to Club members\, $5 to non-members payable at the door.
URL:https://cameraclublwv.org/event/class-black-and-white-conversion-and-printing-barry-evans/
LOCATION:Clubhouse 4\, 23501 Via Mariposa W\, Laguna Woods\, CA\, 92637\, United States
END:VEVENT
BEGIN:VEVENT
DTSTART;TZID=America/Los_Angeles:20230728T130000
DTEND;TZID=America/Los_Angeles:20230728T143000
DTSTAMP:20260419T142824
CREATED:20230621T170138Z
LAST-MODIFIED:20230717T155944Z
UID:25714-1690549200-1690554600@cameraclublwv.org
SUMMARY:Class: “Photo Restoration”\, Art Ramirez\, Part 2
DESCRIPTION:2nd session of Art Ramirez’s class on Photo Restoration. \nJuly 25th\, part 1\, and July 28th part 2 \nBoth classes from 1:00-2:30PM \nClubhouse #4
URL:https://cameraclublwv.org/event/class-photo-restoration-art-ramirez-2/
LOCATION:Clubhouse 4\, 23501 Via Mariposa W\, Laguna Woods\, CA\, 92637\, United States
ORGANIZER;CN="Beth Schipper":MAILTO:schipperbeth@yahoo.com
END:VEVENT
BEGIN:VEVENT
DTSTART;TZID=America/Los_Angeles:20230725T130000
DTEND;TZID=America/Los_Angeles:20230725T143000
DTSTAMP:20260419T142824
CREATED:20230621T165706Z
LAST-MODIFIED:20230717T155832Z
UID:25711-1690290000-1690295400@cameraclublwv.org
SUMMARY:Class: “Photo Restoration”\, Art Ramirez\, Part 1
DESCRIPTION:1st session of Art Ramirez’s class on Photo Restoration. \nJuly 25th\, part 1\, and July 28th part 2 \nBoth classes 1:00-2:30PM \nClubhouse #4
URL:https://cameraclublwv.org/event/class-photo-restoration-art-ramirez/
LOCATION:Clubhouse 4\, 23501 Via Mariposa W\, Laguna Woods\, CA\, 92637\, United States
CATEGORIES:Class
ORGANIZER;CN="Beth Schipper":MAILTO:schipperbeth@yahoo.com
END:VEVENT
BEGIN:VEVENT
DTSTART;TZID=America/Los_Angeles:20230724T183000
DTEND;TZID=America/Los_Angeles:20230724T200000
DTSTAMP:20260419T142824
CREATED:20230522T020549Z
LAST-MODIFIED:20230531T170150Z
UID:25510-1690223400-1690228800@cameraclublwv.org
SUMMARY:Critique – “Water”
DESCRIPTION:July Critique will be held viz Zoom. Look for the flyer\, and the Zoom announcement in your emails. \nRefer to the emails and the Critiques page on the Club website for Submission Rules PDF \nSpecial Subject “Water” – \n“Water photography refers to any photo that emphasizes water as a compelling visual element. It includes water in liquid form\, water vapor\, ice\, steam\, fog\, snow\, rain\, and water droplets\, as long as water\, in any of its states\, is the main subject of the photo. Reflections\, puddles\, bubbles\, foam\, splashes and sprays are all eligible. When other elements are visible in the image\, such as people walking on the beach\, or a dog lapping water from a bowl\, they should not overpower the impact of the water in the image”.
URL:https://cameraclublwv.org/event/special-catergory/
LOCATION:Zoom\, Laguna Woods\, CA\, United States
END:VEVENT
BEGIN:VEVENT
DTSTART;TZID=America/Los_Angeles:20230715T110000
DTEND;TZID=America/Los_Angeles:20230715T130000
DTSTAMP:20260419T142824
CREATED:20230623T180336Z
LAST-MODIFIED:20230623T180336Z
UID:25723-1689418800-1689426000@cameraclublwv.org
SUMMARY:Class: “Getting off Automatic on you Camera”\, Susan Bouet
DESCRIPTION:“Getting off Automatic on you Camera” with local photographer Susan Bouet. \nClubhouse #4\, 11AM-1PM
URL:https://cameraclublwv.org/event/class-getting-off-automatic-on-you-camera-susan-bouet/
LOCATION:CA
END:VEVENT
BEGIN:VEVENT
DTSTART;TZID=America/Los_Angeles:20230714T133000
DTEND;TZID=America/Los_Angeles:20230714T150000
DTSTAMP:20260419T142824
CREATED:20230114T193940Z
LAST-MODIFIED:20230630T164312Z
UID:23969-1689341400-1689346800@cameraclublwv.org
SUMMARY:Board Executive Meeting\, Clubhouse 4
DESCRIPTION:Board Executive group meeting. \nLocation: Fred Grainger Learning Center\, Clubhouse 4 \nContact John Cornell with any questions. \npresident@cameraclublwv.org?subject=Board%20Working%20Group
URL:https://cameraclublwv.org/event/board-meeting-8/
LOCATION:Clubhouse 4\, 23501 Via Mariposa W\, Laguna Woods\, CA\, 92637\, United States
CATEGORIES:Board Meeting
END:VEVENT
BEGIN:VEVENT
DTSTART;TZID=America/Los_Angeles:20230623T130000
DTEND;TZID=America/Los_Angeles:20230623T150000
DTSTAMP:20260419T142824
CREATED:20230618T082222Z
LAST-MODIFIED:20230618T082222Z
UID:25696-1687525200-1687532400@cameraclublwv.org
SUMMARY:Class: “Beginning Photography” – Jack Salvador
DESCRIPTION:This “Beginning Photography” class will help you understand the fundamentals of taking photos\, concentrating in on what makes a “good” photograph\, as well as how to use your photo equipment to take a photograph. \nRespond to this email to sign up. Please indicate whether you are a member or a non-member.   \njsalvador@cameraclublwv.org \nThere is a $5 fee for non-members.
URL:https://cameraclublwv.org/event/class-beginning-photography-jack-salvador/
LOCATION:Clubhouse 4\, 23501 Via Mariposa W\, Laguna Woods\, CA\, 92637\, United States
END:VEVENT
BEGIN:VEVENT
DTSTART;TZID=America/Los_Angeles:20230619T183000
DTEND;TZID=America/Los_Angeles:20230619T203000
DTSTAMP:20260419T142824
CREATED:20230531T055604Z
LAST-MODIFIED:20230608T054027Z
UID:25607-1687199400-1687206600@cameraclublwv.org
SUMMARY:General Membership Meeting\, Clubhouse 7
DESCRIPTION:Monday June 19th\, Clubhouse 7\, 6:30PM. \nThe Club will hold a General Membership Meeting open to all members. The Board\, and Committee Chairs will present brief overviews of progress to date and future plans. \nThe Board will announce new Club initiatives and membership benefits. Time will be allotted for a Q&A session. \nThe latter half of the meeting will open for members to socialize\, talk shop\, and relax with complimentary food / drink. \nMembers in attendance will be eligible for some great prizes!
URL:https://cameraclublwv.org/event/general-membership-meeting/
LOCATION:Clubhouse 7\, 24111 Moulton Pkwy\, Laguna Woods\, CA\, 92637\, United States
END:VEVENT
BEGIN:VEVENT
DTSTART;TZID=America/Los_Angeles:20230616T133000
DTEND;TZID=America/Los_Angeles:20230616T150000
DTSTAMP:20260419T142824
CREATED:20230114T193844Z
LAST-MODIFIED:20230608T053729Z
UID:23967-1686922200-1686927600@cameraclublwv.org
SUMMARY:Board Meeting – Zoom
DESCRIPTION:The June Board meeting will be held via a Zoom meeting link. \nAll Club members are invited to attend the meeting. \nEmail invitation will be sent to all Club members with the meeting agenda\, date\, time\, and Zoom link.
URL:https://cameraclublwv.org/event/board-meeting-7/
LOCATION:Clubhouse 4\, 23501 Via Mariposa W\, Laguna Woods\, CA\, 92637\, United States
CATEGORIES:Board Meeting
END:VEVENT
BEGIN:VEVENT
DTSTART;TZID=America/Los_Angeles:20230613T120000
DTEND;TZID=America/Los_Angeles:20230613T140000
DTSTAMP:20260419T142824
CREATED:20230413T025222Z
LAST-MODIFIED:20230413T025222Z
UID:25282-1686657600-1686664800@cameraclublwv.org
SUMMARY:Intermediate Photoshop Classes
DESCRIPTION:Intermediate Photoshop Classes\nMAY 2 – JUNE 13 (7 weeks)\, Tuesdays 12:00-2:00PM\nArt Ramirez
URL:https://cameraclublwv.org/event/intermediate-photoshop-classes/
LOCATION:Zoom\, Laguna Woods\, CA\, United States
CATEGORIES:Workshop/class
END:VEVENT
BEGIN:VEVENT
DTSTART;TZID=America/Los_Angeles:20230613T090000
DTEND;TZID=America/Los_Angeles:20230613T110000
DTSTAMP:20260419T142824
CREATED:20230413T025051Z
LAST-MODIFIED:20230413T025051Z
UID:25280-1686646800-1686654000@cameraclublwv.org
SUMMARY:Intermediate Elements Editing Program
DESCRIPTION:Intermediate Elements Editing Program\nMAY 2 – JUNE 13 (7 weeks)\, Tuesday’s 9:00-11:00AM\nArt Ramirez
URL:https://cameraclublwv.org/event/intermediate-elements-editing-program-7/
LOCATION:Zoom\, Laguna Woods\, CA\, United States
CATEGORIES:Workshop/class
END:VEVENT
BEGIN:VEVENT
DTSTART;TZID=America/Los_Angeles:20230612T190000
DTEND;TZID=America/Los_Angeles:20230612T200000
DTSTAMP:20260419T142824
CREATED:20230112T174344Z
LAST-MODIFIED:20230531T181857Z
UID:23701-1686596400-1686600000@cameraclublwv.org
SUMMARY:Showcase – “Capturing Stunning Portraits” (refreshments 6:30PM)
DESCRIPTION:Rick Valasek’s Showcase will present his beautiful portraits. From genuine candid photos\, to complex group poses\, to immersive worlds created in the studio\, Rick has done it all. \nRick’s presentation to Club will explore the same techniques including lighting and posing\, and the equipment that he uses to capture his stunning portraits. \nWe’ll see this demonstrated as he sets up a shooting set and guides a live model using a mirror-less camera and then replicates the same images using a smartphone – proclaiming that it’s not the equipment it’s “everything else.”
URL:https://cameraclublwv.org/event/showcase-7/
LOCATION:Clubhouse 7\, 24111 Moulton Pkwy\, Laguna Woods\, CA\, 92637\, United States
CATEGORIES:Showcase
END:VEVENT
BEGIN:VEVENT
DTSTART;TZID=America/Los_Angeles:20230612T130000
DTEND;TZID=America/Los_Angeles:20230612T150000
DTSTAMP:20260419T142824
CREATED:20230413T030823Z
LAST-MODIFIED:20230605T062926Z
UID:25296-1686574800-1686582000@cameraclublwv.org
SUMMARY:Class: iPhone Photography
DESCRIPTION:iPhone Phone Photography\nJUNE 12 (Monday)\, 1:00PM-3:00PM\nKim Signoret Paar\nClubhouse 4\, Photo Classroom
URL:https://cameraclublwv.org/event/cell-phone-photography/
LOCATION:Clubhouse 4\, 23501 Via Mariposa W\, Laguna Woods\, CA\, 92637\, United States
CATEGORIES:Workshop/class
END:VEVENT
BEGIN:VEVENT
DTSTART;TZID=America/Los_Angeles:20230606T120000
DTEND;TZID=America/Los_Angeles:20230606T140000
DTSTAMP:20260419T142824
CREATED:20230413T025344Z
LAST-MODIFIED:20230413T025344Z
UID:25284-1686052800-1686060000@cameraclublwv.org
SUMMARY:Intermediate Photoshop Classes
DESCRIPTION:Intermediate Photoshop Classes\nMAY 2 – JUNE 13 (7 weeks)\, Tuesdays 12:00-2:00PM\nArt Ramirez
URL:https://cameraclublwv.org/event/intermediate-photoshop-classes-2/
LOCATION:Zoom\, Laguna Woods\, CA\, United States
CATEGORIES:Workshop/class
END:VEVENT
BEGIN:VEVENT
DTSTART;TZID=America/Los_Angeles:20230606T090000
DTEND;TZID=America/Los_Angeles:20230606T110000
DTSTAMP:20260419T142824
CREATED:20230413T024939Z
LAST-MODIFIED:20230413T024939Z
UID:25278-1686042000-1686049200@cameraclublwv.org
SUMMARY:Intermediate Elements Editing Program
DESCRIPTION:Intermediate Elements Editing Program\nMAY 2 – JUNE 13 (7 weeks)\, Tuesday’s 9:00-11:00AM\nArt Ramirez
URL:https://cameraclublwv.org/event/intermediate-elements-editing-program-6/
LOCATION:Zoom\, Laguna Woods\, CA\, United States
END:VEVENT
BEGIN:VEVENT
DTSTART;TZID=America/Los_Angeles:20230603T110000
DTEND;TZID=America/Los_Angeles:20230603T150000
DTSTAMP:20260419T142824
CREATED:20230529T195319Z
LAST-MODIFIED:20230529T200309Z
UID:25582-1685790000-1685804400@cameraclublwv.org
SUMMARY:“Art Affair” – Clubhouse #2
DESCRIPTION:Clubhouse #2 – 11AM-3PM. \nThe Camera Club has a table at “Art Affair” 2023!  \nCome by and get your free** portrait photographs from the great Photo Booth team. \nCheck out images members have for sale\, spend some time Club members\, the Board and Committee Chairs
URL:https://cameraclublwv.org/event/art-affair-clubhouse-2/
LOCATION:Clubhouse 2\, 24112 Moulton Pkwy\, Laguna Woods\, CA\, 92637\, United States
END:VEVENT
BEGIN:VEVENT
DTSTART;TZID=America/Los_Angeles:20230523T120000
DTEND;TZID=America/Los_Angeles:20230523T140000
DTSTAMP:20260419T142824
CREATED:20230413T025514Z
LAST-MODIFIED:20230413T025514Z
UID:25286-1684843200-1684850400@cameraclublwv.org
SUMMARY:Intermediate Photoshop Classes
DESCRIPTION:Intermediate Photoshop Classes\nMAY 2 – JUNE 13 (7 weeks)\, Tuesdays 12:00-2:00PM\nArt Ramirez
URL:https://cameraclublwv.org/event/intermediate-photoshop-classes-3/
LOCATION:Zoom\, Laguna Woods\, CA\, United States
CATEGORIES:Workshop/class
END:VEVENT
BEGIN:VEVENT
DTSTART;TZID=America/Los_Angeles:20230523T090000
DTEND;TZID=America/Los_Angeles:20230523T110000
DTSTAMP:20260419T142824
CREATED:20230413T024757Z
LAST-MODIFIED:20230413T024757Z
UID:25276-1684832400-1684839600@cameraclublwv.org
SUMMARY:Intermediate Elements Editing Program
DESCRIPTION:Intermediate Elements Editing Program\nMAY 2 – JUNE 13 (7 weeks)\, Tuesday’s 9:00-11:00AM\nArt Ramirez
URL:https://cameraclublwv.org/event/intermediate-elements-editing-program-5/
LOCATION:Zoom\, Laguna Woods\, CA\, United States
END:VEVENT
BEGIN:VEVENT
DTSTART;TZID=America/Los_Angeles:20230523T090000
DTEND;TZID=America/Los_Angeles:20230523T110000
DTSTAMP:20260419T142824
CREATED:20230413T024638Z
LAST-MODIFIED:20230413T024638Z
UID:25274-1684832400-1684839600@cameraclublwv.org
SUMMARY:Intermediate Elements Editing Program
DESCRIPTION:Intermediate Elements Editing Program\nMAY 2 – JUNE 13 (7 weeks)\, Tuesday’s 9:00-11:00AM\nArt Ramirez
URL:https://cameraclublwv.org/event/intermediate-elements-editing-program-4/
LOCATION:Zoom\, Laguna Woods\, CA\, United States
END:VEVENT
BEGIN:VEVENT
DTSTART;TZID=America/Los_Angeles:20230522T183000
DTEND;TZID=America/Los_Angeles:20230522T200000
DTSTAMP:20260419T142824
CREATED:20230112T180903Z
LAST-MODIFIED:20230116T191905Z
UID:23719-1684780200-1684785600@cameraclublwv.org
SUMMARY:Critique
DESCRIPTION:Special Subject. Minimalism
URL:https://cameraclublwv.org/event/critique-3/
LOCATION:Zoom\, Laguna Woods\, CA\, United States
CATEGORIES:Critigue
END:VEVENT
BEGIN:VEVENT
DTSTART;TZID=America/Los_Angeles:20230519T133000
DTEND;TZID=America/Los_Angeles:20230519T150000
DTSTAMP:20260419T142824
CREATED:20230114T193748Z
LAST-MODIFIED:20230423T164448Z
UID:23965-1684503000-1684508400@cameraclublwv.org
SUMMARY:Board Meeting
DESCRIPTION:
URL:https://cameraclublwv.org/event/board-meeting-6/
LOCATION:Clubhouse 4\, 23501 Via Mariposa W\, Laguna Woods\, CA\, 92637\, United States
CATEGORIES:Board Meeting
END:VEVENT
BEGIN:VEVENT
DTSTART;TZID=America/Los_Angeles:20230517T080000
DTEND;TZID=America/Los_Angeles:20230517T170000
DTSTAMP:20260419T142824
CREATED:20230114T192131Z
LAST-MODIFIED:20230118T211129Z
UID:23943-1684310400-1684342800@cameraclublwv.org
SUMMARY:Submission for Critique
DESCRIPTION:images due by 5pm
URL:https://cameraclublwv.org/event/submission-for-critique-4/
LOCATION:CA
CATEGORIES:Critigue
END:VEVENT
BEGIN:VEVENT
DTSTART;TZID=America/Los_Angeles:20230516T120000
DTEND;TZID=America/Los_Angeles:20230516T140000
DTSTAMP:20260419T142824
CREATED:20230413T025741Z
LAST-MODIFIED:20230413T025741Z
UID:25290-1684238400-1684245600@cameraclublwv.org
SUMMARY:Intermediate Photoshop Classes
DESCRIPTION:Intermediate Photoshop Classes\nMAY 2 – JUNE 13 (7 weeks)\, Tuesdays 12:00-2:00PM\nArt Ramirez Photoshop Classes
URL:https://cameraclublwv.org/event/intermediate-photoshop-classes-5/
LOCATION:Zoom\, Laguna Woods\, CA\, United States
CATEGORIES:Workshop/class
END:VEVENT
BEGIN:VEVENT
DTSTART;TZID=America/Los_Angeles:20230516T090000
DTEND;TZID=America/Los_Angeles:20230516T110000
DTSTAMP:20260419T142824
CREATED:20230413T024456Z
LAST-MODIFIED:20230413T024456Z
UID:25272-1684227600-1684234800@cameraclublwv.org
SUMMARY:Intermediate Elements Editing Program
DESCRIPTION:Intermediate Elements Editing Program\nMAY 2 – JUNE 13 (7 weeks)\, Tuesday’s 9:00-11:00AM\nArt Ramirez
URL:https://cameraclublwv.org/event/intermediate-elements-editing-program-3/
LOCATION:Zoom\, Laguna Woods\, CA\, United States
CATEGORIES:Workshop/class
END:VEVENT
BEGIN:VEVENT
DTSTART;TZID=America/Los_Angeles:20230512T130000
DTEND;TZID=America/Los_Angeles:20230512T143000
DTSTAMP:20260419T142824
CREATED:20230413T030945Z
LAST-MODIFIED:20230413T030945Z
UID:25298-1683896400-1683901800@cameraclublwv.org
SUMMARY:Travel Photography
DESCRIPTION:Travel Photography\nMAY 12 (Friday)\, 1:00PM\nMike Bray\nClubhouse 4\, Photo Classroom
URL:https://cameraclublwv.org/event/travel-photography/
LOCATION:Clubhouse 4\, 23501 Via Mariposa W\, Laguna Woods\, CA\, 92637\, United States
END:VEVENT
BEGIN:VEVENT
DTSTART;TZID=America/Los_Angeles:20230509T120000
DTEND;TZID=America/Los_Angeles:20230509T140000
DTSTAMP:20260419T142824
CREATED:20230413T025843Z
LAST-MODIFIED:20230413T025843Z
UID:25292-1683633600-1683640800@cameraclublwv.org
SUMMARY:Intermediate Photoshop Classes
DESCRIPTION:Intermediate Photoshop Classes\nMAY 2 – JUNE 13 (7 weeks)\, Tuesdays 12:00-2:00PM\nArt Ramirez
URL:https://cameraclublwv.org/event/intermediate-photoshop-classes-6/
LOCATION:Zoom\, Laguna Woods\, CA\, United States
CATEGORIES:Workshop/class
END:VEVENT
BEGIN:VEVENT
DTSTART;TZID=America/Los_Angeles:20230509T080000
DTEND;TZID=America/Los_Angeles:20230509T170000
DTSTAMP:20260419T142824
CREATED:20230413T024303Z
LAST-MODIFIED:20230413T024303Z
UID:25270-1683619200-1683651600@cameraclublwv.org
SUMMARY:Intermediate Elements Editing Program
DESCRIPTION:Intermediate Elements Editing Program\nMAY 2 – JUNE 13 (7 weeks)\, Tuesday’s 9:00-11:00AM\nArt Ramirez
URL:https://cameraclublwv.org/event/intermediate-elements-editing-program-2/
LOCATION:Zoom\, Laguna Woods\, CA\, United States
CATEGORIES:Workshop/class
END:VEVENT
BEGIN:VEVENT
DTSTART;TZID=America/Los_Angeles:20230508T190000
DTEND;TZID=America/Los_Angeles:20230508T203000
DTSTAMP:20260419T142824
CREATED:20230413T023652Z
LAST-MODIFIED:20230413T023652Z
UID:25264-1683572400-1683577800@cameraclublwv.org
SUMMARY:“Joshua Tree-Holy Grail”
DESCRIPTION:“Joshua Tree-Holy Grail”\nPresenter Larry Cunningham\nMon Apr 17
URL:https://cameraclublwv.org/event/joshua-tree-holy-grail/
LOCATION:Clubhouse 7\, 24111 Moulton Pkwy\, Laguna Woods\, CA\, 92637\, United States
CATEGORIES:Showcase
END:VEVENT
END:VCALENDAR