BEGIN:VCALENDAR
VERSION:2.0
PRODID:-//Camera Club of Laguna Woods Village - ECPv6.15.20//NONSGML v1.0//EN
CALSCALE:GREGORIAN
METHOD:PUBLISH
X-WR-CALNAME:Camera Club of Laguna Woods Village
X-ORIGINAL-URL:https://cameraclublwv.org
X-WR-CALDESC:Events for Camera Club of Laguna Woods Village
REFRESH-INTERVAL;VALUE=DURATION:PT1H
X-Robots-Tag:noindex
X-PUBLISHED-TTL:PT1H
BEGIN:VTIMEZONE
TZID:America/Los_Angeles
BEGIN:DAYLIGHT
TZOFFSETFROM:-0800
TZOFFSETTO:-0700
TZNAME:PDT
DTSTART:20220313T100000
END:DAYLIGHT
BEGIN:STANDARD
TZOFFSETFROM:-0700
TZOFFSETTO:-0800
TZNAME:PST
DTSTART:20221106T090000
END:STANDARD
BEGIN:DAYLIGHT
TZOFFSETFROM:-0800
TZOFFSETTO:-0700
TZNAME:PDT
DTSTART:20230312T100000
END:DAYLIGHT
BEGIN:STANDARD
TZOFFSETFROM:-0700
TZOFFSETTO:-0800
TZNAME:PST
DTSTART:20231105T090000
END:STANDARD
BEGIN:DAYLIGHT
TZOFFSETFROM:-0800
TZOFFSETTO:-0700
TZNAME:PDT
DTSTART:20240310T100000
END:DAYLIGHT
BEGIN:STANDARD
TZOFFSETFROM:-0700
TZOFFSETTO:-0800
TZNAME:PST
DTSTART:20241103T090000
END:STANDARD
END:VTIMEZONE
BEGIN:VEVENT
DTSTART;TZID=America/Los_Angeles:20231017T090000
DTEND;TZID=America/Los_Angeles:20231017T110000
DTSTAMP:20260419T123048
CREATED:20230817T045414Z
LAST-MODIFIED:20230817T045414Z
UID:26306-1697533200-1697540400@cameraclublwv.org
SUMMARY:Class: “Elements – Intermediate”\, Art Ramirez (2 of 7)
DESCRIPTION:“Elements – Intermediate” \nArt Ramirez \nOCTOBER 13 though NOVEMBER 28\nClass 1 Friday 9:00AM-11:00AM\nClass 2-7 Tuesdays 9:00AM-11:00AM \n(no class on the Nov 21 week of Thanksgiving) \n$70 for 7 classes \nZoom
URL:https://cameraclublwv.org/event/class-elements-intermediate-art-ramirez-2-of-7/
LOCATION:Zoom\, Laguna Woods\, CA\, United States
CATEGORIES:Class
ORGANIZER;CN="Beth Schipper":MAILTO:schipperbeth@yahoo.com
END:VEVENT
BEGIN:VEVENT
DTSTART;TZID=America/Los_Angeles:20231013T120000
DTEND;TZID=America/Los_Angeles:20231013T140000
DTSTAMP:20260419T123048
CREATED:20230817T042602Z
LAST-MODIFIED:20230817T042602Z
UID:26273-1697198400-1697205600@cameraclublwv.org
SUMMARY:Class: “Photoshop – Intermediate”\, Art Ramirez (1 of 7)
DESCRIPTION:“Photoshop – Intermediate”\nArt Ramirez \nOCTOBER 13 though NOVEMBER 28 \nClass 1 Friday 12:00PM-2:00PM\nClass 2-7 Tuesdays\, 12:00PM-2:00PM \n(no class on the Nov 21 week of Thanksgiving) \n$70 for 7 classes \nZoom
URL:https://cameraclublwv.org/event/class-photoshop-intermediate-art-ramirez-1-of-7/
LOCATION:Zoom\, Laguna Woods\, CA\, United States
CATEGORIES:Class
END:VEVENT
BEGIN:VEVENT
DTSTART;TZID=America/Los_Angeles:20231013T090000
DTEND;TZID=America/Los_Angeles:20231013T110000
DTSTAMP:20260419T123048
CREATED:20230817T044740Z
LAST-MODIFIED:20230817T044740Z
UID:26294-1697187600-1697194800@cameraclublwv.org
SUMMARY:Class: “Elements – Intermediate”\, Art Ramirez (1 of 7)
DESCRIPTION:“Elements – Intermediate”\nArt Ramirez \nOCTOBER 13 though NOVEMBER 28\nClass 1 Friday 9:00AM-11:00AM\nClass 2-7 Tuesdays 9:00AM-11:00AM \n(no class on the Nov 21 week of Thanksgiving) \n$70 for 7 classes \nZoom
URL:https://cameraclublwv.org/event/class-elements-intermediate-art-ramirez-1-of-7/
LOCATION:Zoom\, Laguna Woods\, CA\, United States
CATEGORIES:Class
ORGANIZER;CN="Beth Schipper":MAILTO:schipperbeth@yahoo.com
END:VEVENT
BEGIN:VEVENT
DTSTART;TZID=America/Los_Angeles:20231009T183000
DTEND;TZID=America/Los_Angeles:20231009T200000
DTSTAMP:20260419T123048
CREATED:20230112T174954Z
LAST-MODIFIED:20230819T051851Z
UID:23707-1696876200-1696881600@cameraclublwv.org
SUMMARY:“Club Night” – General Membership Meeting
DESCRIPTION:October 9th will be the 2nd “Club Night”\, General Membership Meeting.   \nThere will be a very interesting short presentation to start the meeting – look for details in a future email announcement. \nThe “Photo Tables” will be available again for members to display their prints. Take advantage of this opportunity to talk about your images with other members. The tables are limited to seven (7) photographers – so you must reserve a table in advance to display. To reserve a table\, email us: showcasescritiques@cameraclublwv.org \nThere will be a “Sell Table” where members and/or guests can display camera equipment and accessories for sale. Just bring your ‘wares’\, a table (5) will be set up at the back of the room. \nMany of the Board\, and Committee Chairs will present – a good opportunity to meet them\, talk\, and provide feedback or suggestions about Club activities. \nThe latter half of the meeting will open for members to socialize\, talk shop\, and relax with complimentary food / drink.
URL:https://cameraclublwv.org/event/showcase-10/
LOCATION:Clubhouse 7\, 24111 Moulton Pkwy\, Laguna Woods\, CA\, 92637\, United States
CATEGORIES:Showcase
ORGANIZER;CN="Jack Salvador%2C 1st VP":MAILTO:firstvp@cameraclublwv.org
END:VEVENT
BEGIN:VEVENT
DTSTART;TZID=America/Los_Angeles:20231003T093000
DTEND;TZID=America/Los_Angeles:20231003T113000
DTSTAMP:20260419T123048
CREATED:20230717T155551Z
LAST-MODIFIED:20230717T235732Z
UID:26021-1696325400-1696332600@cameraclublwv.org
SUMMARY:Class: Beginning Lightroom\, Ed Stewart (6 of 6)
DESCRIPTION:6th session of this comprehensive beginner class on the Adobe’s Lightroom app.   \nThe class will be held on Tuesday for six (6) weeks\, from August 22nd through October 3rd. \n$60 fee covers all six classes. \nNO class on September 12th.
URL:https://cameraclublwv.org/event/6th-class-beginning-lightroom-ed-stewart/
LOCATION:Zoom\, Laguna Woods\, CA\, United States
CATEGORIES:Class
ORGANIZER;CN="Beth Schipper":MAILTO:schipperbeth@yahoo.com
END:VEVENT
BEGIN:VEVENT
DTSTART;TZID=America/Los_Angeles:20231001T080000
DTEND;TZID=America/Los_Angeles:20231020T170000
DTSTAMP:20260419T123048
CREATED:20230817T042004Z
LAST-MODIFIED:20230817T042004Z
UID:26268-1696147200-1697821200@cameraclublwv.org
SUMMARY:Class: Learn to Edit Your Night Sky Photos”\, Ted Koelsch (3 of 3)
DESCRIPTION:PART 3: “Learn to Edit Your Night Sky Photos”\nTed Koelsch \nDATE to be determined after the Milky Way Photoshoot. \nPart 3 of a 3 part workshop.  \nView Flyer \nZoom
URL:https://cameraclublwv.org/event/class-learn-to-edit-your-night-sky-photos-ted-koelsch-3-of-3/
LOCATION:Zoom\, Laguna Woods\, CA\, United States
CATEGORIES:Class
END:VEVENT
BEGIN:VEVENT
DTSTART;TZID=America/Los_Angeles:20230929T130000
DTEND;TZID=America/Los_Angeles:20230929T150000
DTSTAMP:20260419T123048
CREATED:20230817T042143Z
LAST-MODIFIED:20230817T042143Z
UID:26270-1695992400-1695999600@cameraclublwv.org
SUMMARY:Class: “Beginning Editing and Critiquing our Work”\, Art Ramirez
DESCRIPTION:“Beginning Editing and Critiquing our Work” \nArt Ramirez \nSEPTEMBER 29\, Friday 1:00PM-3:00PM \nFor the person just beginning to edit photos but not ready to invest in Photoshop or Light Room. \nClubhouse #4\, Photography classroom
URL:https://cameraclublwv.org/event/class-beginning-editing-and-critiquing-our-work-art-ramirez/
LOCATION:Clubhouse 4\, 23501 Via Mariposa W\, Laguna Woods\, CA\, 92637\, United States
CATEGORIES:Class
ORGANIZER;CN="Beth Schipper":MAILTO:schipperbeth@yahoo.com
END:VEVENT
BEGIN:VEVENT
DTSTART;TZID=America/Los_Angeles:20230926T093000
DTEND;TZID=America/Los_Angeles:20230926T113000
DTSTAMP:20260419T123048
CREATED:20230717T155437Z
LAST-MODIFIED:20230717T235722Z
UID:26019-1695720600-1695727800@cameraclublwv.org
SUMMARY:Class: Beginning Lightroom\, Ed Stewart (5 of 6)
DESCRIPTION:5th session of this comprehensive beginner class on the Adobe’s Lightroom app.   \nThe class will be held on Tuesday for six (6) weeks\, from August 22nd through October 3rd. \n$60 fee covers all six classes. \nNO class on September 12th.
URL:https://cameraclublwv.org/event/5th-class-beginning-lightroom-ed-stewart/
LOCATION:Zoom\, Laguna Woods\, CA\, United States
CATEGORIES:Class
ORGANIZER;CN="Beth Schipper":MAILTO:schipperbeth@yahoo.com
END:VEVENT
BEGIN:VEVENT
DTSTART;TZID=America/Los_Angeles:20230925T183000
DTEND;TZID=America/Los_Angeles:20230925T200000
DTSTAMP:20260419T123048
CREATED:20230112T182414Z
LAST-MODIFIED:20230531T171445Z
UID:23729-1695666600-1695672000@cameraclublwv.org
SUMMARY:Digital Critique – “Candid”
DESCRIPTION:The September Critique will be held via Zoom. \nThis Critique has Special Category “Candid” –  \n“Candid Photography is a genre of photography that spontaneously captures the organic\, genuine\, and unposed moments of a subject. Candid photos may not be posed: They show people in unguarded moments unaware that a photograph is being taken”.
URL:https://cameraclublwv.org/event/critique-6/
LOCATION:Zoom\, Laguna Woods\, CA\, United States
CATEGORIES:Critigue
END:VEVENT
BEGIN:VEVENT
DTSTART;TZID=America/Los_Angeles:20230919T093000
DTEND;TZID=America/Los_Angeles:20230919T113000
DTSTAMP:20260419T123048
CREATED:20230717T155324Z
LAST-MODIFIED:20230717T235710Z
UID:26017-1695115800-1695123000@cameraclublwv.org
SUMMARY:Class: Beginning Lightroom\, Ed Stewart (4 of 6)
DESCRIPTION:3rd session of this comprehensive beginner class on the Adobe’s Lightroom app.   \nThe class will be held on Tuesday for six (6) weeks\, from August 22nd through October 3rd. \n$60 fee covers all six classes. \nNO class on September 12th.
URL:https://cameraclublwv.org/event/4th-class-beginning-lightroom-ed-stewart/
LOCATION:Zoom\, Laguna Woods\, CA\, United States
CATEGORIES:Class
ORGANIZER;CN="Beth Schipper":MAILTO:schipperbeth@yahoo.com
END:VEVENT
BEGIN:VEVENT
DTSTART;TZID=America/Los_Angeles:20230915T133000
DTEND;TZID=America/Los_Angeles:20230915T150000
DTSTAMP:20260419T123048
CREATED:20230114T194136Z
LAST-MODIFIED:20230531T172212Z
UID:23973-1694784600-1694790000@cameraclublwv.org
SUMMARY:Board Meeting – Clubhouse 4 & Zoom
DESCRIPTION:The September Board meeting will be held in the Education room at the PhotoLab in Clubhouse #4\, AND via a Zoom meeting link. \nAll Club members are invited to attend the meeting. \nEmail invitation will be sent to all Club members with the meeting agenda\, date\, time\, and Zoom link.
URL:https://cameraclublwv.org/event/board-meeting-10/
LOCATION:Clubhouse 4\, 23501 Via Mariposa W\, Laguna Woods\, CA\, 92637\, United States
CATEGORIES:Board Meeting
END:VEVENT
BEGIN:VEVENT
DTSTART;TZID=America/Los_Angeles:20230911T180000
DTEND;TZID=America/Los_Angeles:20230911T210000
DTSTAMP:20260419T123048
CREATED:20230819T051234Z
LAST-MODIFIED:20230819T051419Z
UID:26316-1694455200-1694466000@cameraclublwv.org
SUMMARY:Showcase – “Eyes on History”\, John Cornell (refreshments 6:30PM)
DESCRIPTION:Clubhouse #1\, main room\, 6:30-9:00PM. \nDoors open at 6:30PM for refreshments and socializing. Showcase begins at 7PM. \nJohn Cornell has lived a storied career as Lead Photographer for Newsday\, NYC\, and as President of the National Press Photographers Association. \nHis work has taken him from the White House to the tundra\, and everything in between. \nHis front page images have covered the major news stories of the day\, and won him a Pulitzer Prize for News Photography. \nDon’t miss this insiders look behind some of his images of our shared history.
URL:https://cameraclublwv.org/event/showcase-eyes-on-history-john-cornell-refreshments-630pm/
LOCATION:CA
CATEGORIES:Class
ORGANIZER;CN="Jack Salvador%2C 1st VP":MAILTO:firstvp@cameraclublwv.org
END:VEVENT
BEGIN:VEVENT
DTSTART;TZID=America/Los_Angeles:20230910T200000
DTEND;TZID=America/Los_Angeles:20230915T220000
DTSTAMP:20260419T123048
CREATED:20230817T041744Z
LAST-MODIFIED:20230817T041744Z
UID:26265-1694376000-1694815200@cameraclublwv.org
SUMMARY:Class; “Milky Way Photoshoots”\, Ted Koelsch (2 of 3)
DESCRIPTION:PART 2: “Milky Way Photoshoots”\nTed Koelsch \nSEPTEMBER 10-15\, Day TBD Evening \nTwo nights will be scheduled subject to weather and astronomical considerations. \nPart 2 of a 3 part workshop.  \nHeisler Park\, Laguna Beach \nView Flyer
URL:https://cameraclublwv.org/event/class-milky-way-photoshoots-ted-koelsch-2-of-3/
LOCATION:Heisler Park\, 375 Cliff Drive\, Laguna Beach\, CA\, 92651\, United States
CATEGORIES:Class
END:VEVENT
BEGIN:VEVENT
DTSTART;TZID=America/Los_Angeles:20230908T130000
DTEND;TZID=America/Los_Angeles:20230908T150000
DTSTAMP:20260419T123048
CREATED:20230817T041425Z
LAST-MODIFIED:20230817T041425Z
UID:26263-1694178000-1694185200@cameraclublwv.org
SUMMARY:Class: “Intro to Night Sky Photography” Ted Koelsch (1 of 3)
DESCRIPTION:PART 1: “Intro to Night Sky Photography”\nTed Koelsch \nSEPTEMBER 8\, Friday 1:00PM-3:00PM \nHow to photograph the night sky from the Milky Way to star trails. \nPart 1 of a 3 part workshop.  \nView Flyer \nClubhouse #4\, Photography classroom
URL:https://cameraclublwv.org/event/class-intro-to-night-sky-photography-ted-koelsch-1-of-3/
LOCATION:Clubhouse 4\, 23501 Via Mariposa W\, Laguna Woods\, CA\, 92637\, United States
CATEGORIES:Class
ORGANIZER;CN="Beth Schipper":MAILTO:schipperbeth@yahoo.com
END:VEVENT
BEGIN:VEVENT
DTSTART;TZID=America/Los_Angeles:20230905T093000
DTEND;TZID=America/Los_Angeles:20230905T113000
DTSTAMP:20260419T123048
CREATED:20230717T155159Z
LAST-MODIFIED:20230717T235659Z
UID:26015-1693906200-1693913400@cameraclublwv.org
SUMMARY:Class: Beginning Lightroom\, Ed Stewart (3 of 6)
DESCRIPTION:3rd session of this comprehensive beginner class on the Adobe’s Lightroom app.   \nThe class will be held on Tuesday for six (6) weeks\, from August 22nd through October 3rd. \n$60 fee covers all six classes. \nNO class on September 12th.
URL:https://cameraclublwv.org/event/3rd-class-beginning-lightroom-ed-stewart/
LOCATION:Zoom\, Laguna Woods\, CA\, United States
CATEGORIES:Class
ORGANIZER;CN="Beth Schipper":MAILTO:schipperbeth@yahoo.com
END:VEVENT
BEGIN:VEVENT
DTSTART;TZID=America/Los_Angeles:20230829T093000
DTEND;TZID=America/Los_Angeles:20230829T113000
DTSTAMP:20260419T123048
CREATED:20230717T154911Z
LAST-MODIFIED:20230717T235640Z
UID:26010-1693301400-1693308600@cameraclublwv.org
SUMMARY:Class: Beginning Lightroom\, Ed Stewart (2 of 6)
DESCRIPTION:2nd session of this comprehensive beginner class on the Adobe’s Lightroom app.   \nThe class will be held on Tuesday for six (6) weeks\, from August 22nd through October 3rd. \n$60 fee covers all six classes. \nNO class on September 12th.
URL:https://cameraclublwv.org/event/class-beginning-lightroom-ed-stewart-2/
LOCATION:Zoom\, Laguna Woods\, CA\, United States
CATEGORIES:Class
ORGANIZER;CN="Beth Schipper":MAILTO:schipperbeth@yahoo.com
END:VEVENT
BEGIN:VEVENT
DTSTART;TZID=America/Los_Angeles:20230822T093000
DTEND;TZID=America/Los_Angeles:20230822T113000
DTSTAMP:20260419T123048
CREATED:20230717T154532Z
LAST-MODIFIED:20230717T235627Z
UID:26008-1692696600-1692703800@cameraclublwv.org
SUMMARY:Class: Beginning Lightroom\, Ed Stewart (1 of 6)
DESCRIPTION:1st session of the comprehensive beginner class on the Adobe’s Lightroom app.   \nThe class will be held on Tuesday for six (6) weeks\, from August 22nd through October 3rd. \n$60 fee for all six classes – see event email flyer for details. \nNO class on September 12th.
URL:https://cameraclublwv.org/event/class-beginning-lightroom-ed-stewart/
LOCATION:Zoom\, Laguna Woods\, CA\, United States
CATEGORIES:Class
ORGANIZER;CN="Beth Schipper":MAILTO:schipperbeth@yahoo.com
END:VEVENT
BEGIN:VEVENT
DTSTART;TZID=America/Los_Angeles:20230821T190000
DTEND;TZID=America/Los_Angeles:20230821T210000
DTSTAMP:20260419T123048
CREATED:20230112T174631Z
LAST-MODIFIED:20230819T051615Z
UID:23705-1692644400-1692651600@cameraclublwv.org
SUMMARY:RESCHEDULED TO SEPTEMBER 11th – Showcase “Eyes on History”
DESCRIPTION:John Cornell’s Showcase has been rescheduled to September 11th due to the tropical storm. There will be no Club event held for this date.
URL:https://cameraclublwv.org/event/showcase-9/
LOCATION:Clubhouse 1\, 24232 Calle Aragon\, Laguna Woods\, CA\, 92637\, United States
CATEGORIES:Showcase
ORGANIZER;CN="Jack Salvador%2C 1st VP":MAILTO:firstvp@cameraclublwv.org
END:VEVENT
BEGIN:VEVENT
DTSTART;TZID=America/Los_Angeles:20230819T113000
DTEND;TZID=America/Los_Angeles:20230819T130000
DTSTAMP:20260419T123048
CREATED:20230114T192712Z
LAST-MODIFIED:20230719T034058Z
UID:23948-1692444600-1692450000@cameraclublwv.org
SUMMARY:Print Competition 2023
DESCRIPTION:On Saturday August 19th\, the Club will hold their annual Print Competition – doors open at 11AM for viewing\, judging starts at 11:30AM. \nAfter awards are given out\, time will be available for members to talk with the judge and the photographers. \n– Minimum size limit is 8in X 8in\, with no upper size limit.\n– Prints must be your own work – both the image and the printing. \nPrint Competition Details \nFor guidance or help with your work\, email us: showcasescritiques@cameraclublwv.org
URL:https://cameraclublwv.org/event/print-competition/
LOCATION:Clubhouse 4\, 23501 Via Mariposa W\, Laguna Woods\, CA\, 92637\, United States
CATEGORIES:Print Competition
ORGANIZER;CN="Jack Salvador%2C 1st VP":MAILTO:firstvp@cameraclublwv.org
END:VEVENT
BEGIN:VEVENT
DTSTART;TZID=America/Los_Angeles:20230818T133000
DTEND;TZID=America/Los_Angeles:20230818T150000
DTSTAMP:20260419T123048
CREATED:20230114T194032Z
LAST-MODIFIED:20230531T172355Z
UID:23971-1692365400-1692370800@cameraclublwv.org
SUMMARY:Board Meeting – Clubhouse 4 & Zoom
DESCRIPTION:The August Board meeting will be held in the Education room at the PhotoLab in Clubhouse #4\, AND via a Zoom meeting link. \nAll Club members are invited to attend the meeting. \nEmail invitation will be sent to all Club members with the meeting agenda\, date\, time\, and Zoom link.
URL:https://cameraclublwv.org/event/board-meeting-9/
LOCATION:Clubhouse 4\, 23501 Via Mariposa W\, Laguna Woods\, CA\, 92637\, United States
CATEGORIES:Board Meeting
END:VEVENT
BEGIN:VEVENT
DTSTART;TZID=America/Los_Angeles:20230814T190000
DTEND;TZID=America/Los_Angeles:20230814T200000
DTSTAMP:20260419T123048
CREATED:20230531T163045Z
LAST-MODIFIED:20230819T052720Z
UID:25610-1692039600-1692043200@cameraclublwv.org
SUMMARY:Showcase – “The Unique World of an Underwater Photographer”\, Dale Kobetich (refreshments 6:30)
DESCRIPTION:Clubhouse #2\, main ball room\, 6:30-9:00PM. \nDoors open at 6:30PM for refreshments and socializing. Showcase begins at 7PM. \nWell known and local ocean photographer Dale Kobetich presents his fascinating “Underwater & Tide Pool Photography”.  \nDale is a quality photographer\, respected for his interesting\, and innovative\, images of underwater sea-life\, and tide pool ecosystems.  \nDale has personally invented specialty camera equipment and image-taking techniques for ocean photography.  \nDon’t miss the chance to see Dale’s impressive presentation.
URL:https://cameraclublwv.org/event/showcase-india/
LOCATION:Clubhouse 2\, 24112 Moulton Pkwy\, Laguna Woods\, CA\, 92637\, United States
END:VEVENT
BEGIN:VEVENT
DTSTART;TZID=America/Los_Angeles:20230812T100000
DTEND;TZID=America/Los_Angeles:20230812T120000
DTSTAMP:20260419T123048
CREATED:20230807T173052Z
LAST-MODIFIED:20230807T181548Z
UID:26194-1691834400-1691841600@cameraclublwv.org
SUMMARY:Equipment Sale – PhotoLab
DESCRIPTION:The entire Club inventory of donated cameras will be made available this Saturday August 12th – at a $5 donation per item! \nWant a point-and-shoot\, a “bridge” camera\, or a starter DSLR? Stop by the Photo Lab Saturday between 10AM-12PM. \nPeruse the collection of donated cameras – Canon\, Sony\, Nikon\, and more. One item for one $5 donation. \nNOTE: these are mainly later model cameras\, so not exactly up to date\, but possibly could be good as learning equipment. \nALSO\, all items are offered “as-is”. The Club does NOT provide any warranties or servicing for the cameras. \nIt’s also possible that there may be some studio equipment available\, like light stands\, but that’s still in the works. \nAnd PAYPAL at the Photo Lab \nThe Photo Lab now taking PayPal payments. Scan the Club QR code\, enter the amount owed for your camera\, or prints\, or membership\, and submit your payment. Easy peasy. \nThe Photo Lab is located at Clubhouse 4\, directly opposite the pool entry. Click here for a PDF map of the Lab location.
URL:https://cameraclublwv.org/event/equipment-sale-photolab/
LOCATION:Clubhouse 4\, 23501 Via Mariposa W\, Laguna Woods\, CA\, 92637\, United States
ORGANIZER;CN="Jack Salvador%2C 1st VP":MAILTO:firstvp@cameraclublwv.org
END:VEVENT
BEGIN:VEVENT
DTSTART;TZID=America/Los_Angeles:20230811T130000
DTEND;TZID=America/Los_Angeles:20230811T150000
DTSTAMP:20260419T123048
CREATED:20230627T224018Z
LAST-MODIFIED:20230717T161748Z
UID:25832-1691758800-1691766000@cameraclublwv.org
SUMMARY:Class: “Black and White Conversion and Printing”\, Barry Evans
DESCRIPTION:Barry Evans\, designated “Master B&W Printer” by Epson\, will be teaching the class. \nDon’t miss this opportunity to learn from this highly skilled and recognized photographer. \nFree to Club members\, $5 to non-members payable at the door.
URL:https://cameraclublwv.org/event/class-black-and-white-conversion-and-printing-barry-evans/
LOCATION:Clubhouse 4\, 23501 Via Mariposa W\, Laguna Woods\, CA\, 92637\, United States
END:VEVENT
BEGIN:VEVENT
DTSTART;TZID=America/Los_Angeles:20230728T130000
DTEND;TZID=America/Los_Angeles:20230728T143000
DTSTAMP:20260419T123048
CREATED:20230621T170138Z
LAST-MODIFIED:20230717T155944Z
UID:25714-1690549200-1690554600@cameraclublwv.org
SUMMARY:Class: “Photo Restoration”\, Art Ramirez\, Part 2
DESCRIPTION:2nd session of Art Ramirez’s class on Photo Restoration. \nJuly 25th\, part 1\, and July 28th part 2 \nBoth classes from 1:00-2:30PM \nClubhouse #4
URL:https://cameraclublwv.org/event/class-photo-restoration-art-ramirez-2/
LOCATION:Clubhouse 4\, 23501 Via Mariposa W\, Laguna Woods\, CA\, 92637\, United States
ORGANIZER;CN="Beth Schipper":MAILTO:schipperbeth@yahoo.com
END:VEVENT
BEGIN:VEVENT
DTSTART;TZID=America/Los_Angeles:20230725T130000
DTEND;TZID=America/Los_Angeles:20230725T143000
DTSTAMP:20260419T123048
CREATED:20230621T165706Z
LAST-MODIFIED:20230717T155832Z
UID:25711-1690290000-1690295400@cameraclublwv.org
SUMMARY:Class: “Photo Restoration”\, Art Ramirez\, Part 1
DESCRIPTION:1st session of Art Ramirez’s class on Photo Restoration. \nJuly 25th\, part 1\, and July 28th part 2 \nBoth classes 1:00-2:30PM \nClubhouse #4
URL:https://cameraclublwv.org/event/class-photo-restoration-art-ramirez/
LOCATION:Clubhouse 4\, 23501 Via Mariposa W\, Laguna Woods\, CA\, 92637\, United States
CATEGORIES:Class
ORGANIZER;CN="Beth Schipper":MAILTO:schipperbeth@yahoo.com
END:VEVENT
BEGIN:VEVENT
DTSTART;TZID=America/Los_Angeles:20230724T183000
DTEND;TZID=America/Los_Angeles:20230724T200000
DTSTAMP:20260419T123048
CREATED:20230522T020549Z
LAST-MODIFIED:20230531T170150Z
UID:25510-1690223400-1690228800@cameraclublwv.org
SUMMARY:Critique – “Water”
DESCRIPTION:July Critique will be held viz Zoom. Look for the flyer\, and the Zoom announcement in your emails. \nRefer to the emails and the Critiques page on the Club website for Submission Rules PDF \nSpecial Subject “Water” – \n“Water photography refers to any photo that emphasizes water as a compelling visual element. It includes water in liquid form\, water vapor\, ice\, steam\, fog\, snow\, rain\, and water droplets\, as long as water\, in any of its states\, is the main subject of the photo. Reflections\, puddles\, bubbles\, foam\, splashes and sprays are all eligible. When other elements are visible in the image\, such as people walking on the beach\, or a dog lapping water from a bowl\, they should not overpower the impact of the water in the image”.
URL:https://cameraclublwv.org/event/special-catergory/
LOCATION:Zoom\, Laguna Woods\, CA\, United States
END:VEVENT
BEGIN:VEVENT
DTSTART;TZID=America/Los_Angeles:20230715T110000
DTEND;TZID=America/Los_Angeles:20230715T130000
DTSTAMP:20260419T123048
CREATED:20230623T180336Z
LAST-MODIFIED:20230623T180336Z
UID:25723-1689418800-1689426000@cameraclublwv.org
SUMMARY:Class: “Getting off Automatic on you Camera”\, Susan Bouet
DESCRIPTION:“Getting off Automatic on you Camera” with local photographer Susan Bouet. \nClubhouse #4\, 11AM-1PM
URL:https://cameraclublwv.org/event/class-getting-off-automatic-on-you-camera-susan-bouet/
LOCATION:CA
END:VEVENT
BEGIN:VEVENT
DTSTART;TZID=America/Los_Angeles:20230714T133000
DTEND;TZID=America/Los_Angeles:20230714T150000
DTSTAMP:20260419T123048
CREATED:20230114T193940Z
LAST-MODIFIED:20230630T164312Z
UID:23969-1689341400-1689346800@cameraclublwv.org
SUMMARY:Board Executive Meeting\, Clubhouse 4
DESCRIPTION:Board Executive group meeting. \nLocation: Fred Grainger Learning Center\, Clubhouse 4 \nContact John Cornell with any questions. \npresident@cameraclublwv.org?subject=Board%20Working%20Group
URL:https://cameraclublwv.org/event/board-meeting-8/
LOCATION:Clubhouse 4\, 23501 Via Mariposa W\, Laguna Woods\, CA\, 92637\, United States
CATEGORIES:Board Meeting
END:VEVENT
BEGIN:VEVENT
DTSTART;TZID=America/Los_Angeles:20230623T130000
DTEND;TZID=America/Los_Angeles:20230623T150000
DTSTAMP:20260419T123048
CREATED:20230618T082222Z
LAST-MODIFIED:20230618T082222Z
UID:25696-1687525200-1687532400@cameraclublwv.org
SUMMARY:Class: “Beginning Photography” – Jack Salvador
DESCRIPTION:This “Beginning Photography” class will help you understand the fundamentals of taking photos\, concentrating in on what makes a “good” photograph\, as well as how to use your photo equipment to take a photograph. \nRespond to this email to sign up. Please indicate whether you are a member or a non-member.   \njsalvador@cameraclublwv.org \nThere is a $5 fee for non-members.
URL:https://cameraclublwv.org/event/class-beginning-photography-jack-salvador/
LOCATION:Clubhouse 4\, 23501 Via Mariposa W\, Laguna Woods\, CA\, 92637\, United States
END:VEVENT
BEGIN:VEVENT
DTSTART;TZID=America/Los_Angeles:20230619T183000
DTEND;TZID=America/Los_Angeles:20230619T203000
DTSTAMP:20260419T123048
CREATED:20230531T055604Z
LAST-MODIFIED:20230608T054027Z
UID:25607-1687199400-1687206600@cameraclublwv.org
SUMMARY:General Membership Meeting\, Clubhouse 7
DESCRIPTION:Monday June 19th\, Clubhouse 7\, 6:30PM. \nThe Club will hold a General Membership Meeting open to all members. The Board\, and Committee Chairs will present brief overviews of progress to date and future plans. \nThe Board will announce new Club initiatives and membership benefits. Time will be allotted for a Q&A session. \nThe latter half of the meeting will open for members to socialize\, talk shop\, and relax with complimentary food / drink. \nMembers in attendance will be eligible for some great prizes!
URL:https://cameraclublwv.org/event/general-membership-meeting/
LOCATION:Clubhouse 7\, 24111 Moulton Pkwy\, Laguna Woods\, CA\, 92637\, United States
END:VEVENT
END:VCALENDAR