BEGIN:VCALENDAR
VERSION:2.0
PRODID:-//Camera Club of Laguna Woods Village - ECPv6.15.20//NONSGML v1.0//EN
CALSCALE:GREGORIAN
METHOD:PUBLISH
X-ORIGINAL-URL:https://cameraclublwv.org
X-WR-CALDESC:Events for Camera Club of Laguna Woods Village
REFRESH-INTERVAL;VALUE=DURATION:PT1H
X-Robots-Tag:noindex
X-PUBLISHED-TTL:PT1H
BEGIN:VTIMEZONE
TZID:America/Los_Angeles
BEGIN:DAYLIGHT
TZOFFSETFROM:-0800
TZOFFSETTO:-0700
TZNAME:PDT
DTSTART:20220313T100000
END:DAYLIGHT
BEGIN:STANDARD
TZOFFSETFROM:-0700
TZOFFSETTO:-0800
TZNAME:PST
DTSTART:20221106T090000
END:STANDARD
BEGIN:DAYLIGHT
TZOFFSETFROM:-0800
TZOFFSETTO:-0700
TZNAME:PDT
DTSTART:20230312T100000
END:DAYLIGHT
BEGIN:STANDARD
TZOFFSETFROM:-0700
TZOFFSETTO:-0800
TZNAME:PST
DTSTART:20231105T090000
END:STANDARD
BEGIN:DAYLIGHT
TZOFFSETFROM:-0800
TZOFFSETTO:-0700
TZNAME:PDT
DTSTART:20240310T100000
END:DAYLIGHT
BEGIN:STANDARD
TZOFFSETFROM:-0700
TZOFFSETTO:-0800
TZNAME:PST
DTSTART:20241103T090000
END:STANDARD
END:VTIMEZONE
BEGIN:VEVENT
DTSTART;TZID=America/Los_Angeles:20231113T190000
DTEND;TZID=America/Los_Angeles:20231113T203000
DTSTAMP:20260425T132209
CREATED:20230114T191315Z
LAST-MODIFIED:20231027T033044Z
UID:23936-1699902000-1699907400@cameraclublwv.org
SUMMARY:Showcase – African Adventures & Other Hard-to-Visit Destinations
DESCRIPTION:Ken will be presenting a total of three (3) Showcases for this event – Africa\, China\, and Russia. \nEnjoy a photographic journey of long-time Camera Club member Ken Furuta’s African Safari in Tanzania and Kenya\, and his excursions on a cruise through the coast of Namibia and South Africa.  \nToday there are some wonderful destinations in the world that are difficult to visit. Ken’s presentation will also feature two multimedia shows on St. Petersburg\, Russia and China’s Silk Road Region.
URL:https://cameraclublwv.org/event/showcase-13/
LOCATION:Clubhouse 7\, 24111 Moulton Pkwy\, Laguna Woods\, CA\, 92637\, United States
CATEGORIES:Showcase
END:VEVENT
END:VCALENDAR