BEGIN:VCALENDAR
VERSION:2.0
PRODID:-//Camera Club of Laguna Woods Village - ECPv6.15.20//NONSGML v1.0//EN
CALSCALE:GREGORIAN
METHOD:PUBLISH
X-ORIGINAL-URL:https://cameraclublwv.org
X-WR-CALDESC:Events for Camera Club of Laguna Woods Village
REFRESH-INTERVAL;VALUE=DURATION:PT1H
X-Robots-Tag:noindex
X-PUBLISHED-TTL:PT1H
BEGIN:VTIMEZONE
TZID:America/Los_Angeles
BEGIN:DAYLIGHT
TZOFFSETFROM:-0800
TZOFFSETTO:-0700
TZNAME:PDT
DTSTART:20220313T100000
END:DAYLIGHT
BEGIN:STANDARD
TZOFFSETFROM:-0700
TZOFFSETTO:-0800
TZNAME:PST
DTSTART:20221106T090000
END:STANDARD
BEGIN:DAYLIGHT
TZOFFSETFROM:-0800
TZOFFSETTO:-0700
TZNAME:PDT
DTSTART:20230312T100000
END:DAYLIGHT
BEGIN:STANDARD
TZOFFSETFROM:-0700
TZOFFSETTO:-0800
TZNAME:PST
DTSTART:20231105T090000
END:STANDARD
BEGIN:DAYLIGHT
TZOFFSETFROM:-0800
TZOFFSETTO:-0700
TZNAME:PDT
DTSTART:20240310T100000
END:DAYLIGHT
BEGIN:STANDARD
TZOFFSETFROM:-0700
TZOFFSETTO:-0800
TZNAME:PST
DTSTART:20241103T090000
END:STANDARD
END:VTIMEZONE
BEGIN:VEVENT
DTSTART;TZID=America/Los_Angeles:20231128T090000
DTEND;TZID=America/Los_Angeles:20231128T110000
DTSTAMP:20260425T204856
CREATED:20230817T044940Z
LAST-MODIFIED:20230817T044940Z
UID:26296-1701162000-1701169200@cameraclublwv.org
SUMMARY:Class: “Elements – Intermediate”\, Art Ramirez (7 of 7)
DESCRIPTION:“Elements – Intermediate” \nArt Ramirez \nOCTOBER 13 though NOVEMBER 28\nClass 1 Friday 9:00AM-11:00AM\nClass 2-7 Tuesdays 9:00AM-11:00AM \n(no class on the Nov 21 week of Thanksgiving) \n$70 for 7 classes \nZoom
URL:https://cameraclublwv.org/event/class-elements-intermediate-art-ramirez-7-of-7/
LOCATION:Zoom\, Laguna Woods\, CA\, United States
CATEGORIES:Class
ORGANIZER;CN="Beth Schipper":MAILTO:schipperbeth@yahoo.com
END:VEVENT
BEGIN:VEVENT
DTSTART;TZID=America/Los_Angeles:20231128T120000
DTEND;TZID=America/Los_Angeles:20231128T140000
DTSTAMP:20260425T204856
CREATED:20230817T043220Z
LAST-MODIFIED:20230817T043220Z
UID:26283-1701172800-1701180000@cameraclublwv.org
SUMMARY:Class: “Photoshop – Intermediate”\, Art Ramirez (7 of 7)
DESCRIPTION:“Photoshop – Intermediate”\nArt Ramirez \nOCTOBER 13 though NOVEMBER 28 \nClass 1 Friday 12:00PM-2:00PM\nClass 2-7 Tuesdays\, 12:00PM-2:00PM \n(no class on the Nov 21 week of Thanksgiving) \n$70 for 7 classes \nZoom
URL:https://cameraclublwv.org/event/class-photoshop-intermediate-art-ramirez-7-of-7/
LOCATION:Zoom\, Laguna Woods\, CA\, United States
CATEGORIES:Class
ORGANIZER;CN="Beth Schipper":MAILTO:schipperbeth@yahoo.com
END:VEVENT
BEGIN:VEVENT
DTSTART;TZID=America/Los_Angeles:20231208T130000
DTEND;TZID=America/Los_Angeles:20231208T150000
DTSTAMP:20260425T204856
CREATED:20230817T044343Z
LAST-MODIFIED:20231027T040627Z
UID:26292-1702040400-1702047600@cameraclublwv.org
SUMMARY:Class: “Travel Photography”\, Mary Madden
DESCRIPTION:“Travel Photography” \nMary Madden \nNOVEMBER 10\, Friday 1:00PM-3:00PM \nA avid traveler and photographer\, Mary gives us tips on travel photography\, including packing camera equipment. \nClubhouse #4\, Photography classroom
URL:https://cameraclublwv.org/event/class-travel-photography-mary-madden/
LOCATION:Clubhouse 4\, 23501 Via Mariposa W\, Laguna Woods\, CA\, 92637\, United States
CATEGORIES:Class
ORGANIZER;CN="Beth Schipper":MAILTO:schipperbeth@yahoo.com
END:VEVENT
END:VCALENDAR