BEGIN:VCALENDAR
VERSION:2.0
PRODID:-//Camera Club of Laguna Woods Village - ECPv6.15.20//NONSGML v1.0//EN
CALSCALE:GREGORIAN
METHOD:PUBLISH
X-ORIGINAL-URL:https://cameraclublwv.org
X-WR-CALDESC:Events for Camera Club of Laguna Woods Village
REFRESH-INTERVAL;VALUE=DURATION:PT1H
X-Robots-Tag:noindex
X-PUBLISHED-TTL:PT1H
BEGIN:VTIMEZONE
TZID:America/Los_Angeles
BEGIN:DAYLIGHT
TZOFFSETFROM:-0800
TZOFFSETTO:-0700
TZNAME:PDT
DTSTART:20220313T100000
END:DAYLIGHT
BEGIN:STANDARD
TZOFFSETFROM:-0700
TZOFFSETTO:-0800
TZNAME:PST
DTSTART:20221106T090000
END:STANDARD
BEGIN:DAYLIGHT
TZOFFSETFROM:-0800
TZOFFSETTO:-0700
TZNAME:PDT
DTSTART:20230312T100000
END:DAYLIGHT
BEGIN:STANDARD
TZOFFSETFROM:-0700
TZOFFSETTO:-0800
TZNAME:PST
DTSTART:20231105T090000
END:STANDARD
BEGIN:DAYLIGHT
TZOFFSETFROM:-0800
TZOFFSETTO:-0700
TZNAME:PDT
DTSTART:20240310T100000
END:DAYLIGHT
BEGIN:STANDARD
TZOFFSETFROM:-0700
TZOFFSETTO:-0800
TZNAME:PST
DTSTART:20241103T090000
END:STANDARD
END:VTIMEZONE
BEGIN:VEVENT
DTSTART;TZID=America/Los_Angeles:20231001T080000
DTEND;TZID=America/Los_Angeles:20231020T170000
DTSTAMP:20260425T142954
CREATED:20230817T042004Z
LAST-MODIFIED:20230817T042004Z
UID:26268-1696147200-1697821200@cameraclublwv.org
SUMMARY:Class: Learn to Edit Your Night Sky Photos”\, Ted Koelsch (3 of 3)
DESCRIPTION:PART 3: “Learn to Edit Your Night Sky Photos”\nTed Koelsch \nDATE to be determined after the Milky Way Photoshoot. \nPart 3 of a 3 part workshop.  \nView Flyer \nZoom
URL:https://cameraclublwv.org/event/class-learn-to-edit-your-night-sky-photos-ted-koelsch-3-of-3/
LOCATION:Zoom\, Laguna Woods\, CA\, United States
CATEGORIES:Class
END:VEVENT
BEGIN:VEVENT
DTSTART;TZID=America/Los_Angeles:20231003T093000
DTEND;TZID=America/Los_Angeles:20231003T113000
DTSTAMP:20260425T142954
CREATED:20230717T155551Z
LAST-MODIFIED:20230717T235732Z
UID:26021-1696325400-1696332600@cameraclublwv.org
SUMMARY:Class: Beginning Lightroom\, Ed Stewart (6 of 6)
DESCRIPTION:6th session of this comprehensive beginner class on the Adobe’s Lightroom app.   \nThe class will be held on Tuesday for six (6) weeks\, from August 22nd through October 3rd. \n$60 fee covers all six classes. \nNO class on September 12th.
URL:https://cameraclublwv.org/event/6th-class-beginning-lightroom-ed-stewart/
LOCATION:Zoom\, Laguna Woods\, CA\, United States
CATEGORIES:Class
ORGANIZER;CN="Beth Schipper":MAILTO:schipperbeth@yahoo.com
END:VEVENT
BEGIN:VEVENT
DTSTART;TZID=America/Los_Angeles:20231013T090000
DTEND;TZID=America/Los_Angeles:20231013T110000
DTSTAMP:20260425T142955
CREATED:20230817T044740Z
LAST-MODIFIED:20230817T044740Z
UID:26294-1697187600-1697194800@cameraclublwv.org
SUMMARY:Class: “Elements – Intermediate”\, Art Ramirez (1 of 7)
DESCRIPTION:“Elements – Intermediate”\nArt Ramirez \nOCTOBER 13 though NOVEMBER 28\nClass 1 Friday 9:00AM-11:00AM\nClass 2-7 Tuesdays 9:00AM-11:00AM \n(no class on the Nov 21 week of Thanksgiving) \n$70 for 7 classes \nZoom
URL:https://cameraclublwv.org/event/class-elements-intermediate-art-ramirez-1-of-7/
LOCATION:Zoom\, Laguna Woods\, CA\, United States
CATEGORIES:Class
ORGANIZER;CN="Beth Schipper":MAILTO:schipperbeth@yahoo.com
END:VEVENT
BEGIN:VEVENT
DTSTART;TZID=America/Los_Angeles:20231013T120000
DTEND;TZID=America/Los_Angeles:20231013T140000
DTSTAMP:20260425T142955
CREATED:20230817T042602Z
LAST-MODIFIED:20230817T042602Z
UID:26273-1697198400-1697205600@cameraclublwv.org
SUMMARY:Class: “Photoshop – Intermediate”\, Art Ramirez (1 of 7)
DESCRIPTION:“Photoshop – Intermediate”\nArt Ramirez \nOCTOBER 13 though NOVEMBER 28 \nClass 1 Friday 12:00PM-2:00PM\nClass 2-7 Tuesdays\, 12:00PM-2:00PM \n(no class on the Nov 21 week of Thanksgiving) \n$70 for 7 classes \nZoom
URL:https://cameraclublwv.org/event/class-photoshop-intermediate-art-ramirez-1-of-7/
LOCATION:Zoom\, Laguna Woods\, CA\, United States
CATEGORIES:Class
END:VEVENT
BEGIN:VEVENT
DTSTART;TZID=America/Los_Angeles:20231017T090000
DTEND;TZID=America/Los_Angeles:20231017T110000
DTSTAMP:20260425T142955
CREATED:20230817T045414Z
LAST-MODIFIED:20230817T045414Z
UID:26306-1697533200-1697540400@cameraclublwv.org
SUMMARY:Class: “Elements – Intermediate”\, Art Ramirez (2 of 7)
DESCRIPTION:“Elements – Intermediate” \nArt Ramirez \nOCTOBER 13 though NOVEMBER 28\nClass 1 Friday 9:00AM-11:00AM\nClass 2-7 Tuesdays 9:00AM-11:00AM \n(no class on the Nov 21 week of Thanksgiving) \n$70 for 7 classes \nZoom
URL:https://cameraclublwv.org/event/class-elements-intermediate-art-ramirez-2-of-7/
LOCATION:Zoom\, Laguna Woods\, CA\, United States
CATEGORIES:Class
ORGANIZER;CN="Beth Schipper":MAILTO:schipperbeth@yahoo.com
END:VEVENT
BEGIN:VEVENT
DTSTART;TZID=America/Los_Angeles:20231017T120000
DTEND;TZID=America/Los_Angeles:20231017T140000
DTSTAMP:20260425T142955
CREATED:20230817T042728Z
LAST-MODIFIED:20230817T042728Z
UID:26275-1697544000-1697551200@cameraclublwv.org
SUMMARY:Class: “Photoshop – Intermediate”\, Art Ramirez (2 of 7)
DESCRIPTION:“Photoshop – Intermediate”\nArt Ramirez \nOCTOBER 13 though NOVEMBER 28 \nClass 1 Friday 12:00PM-2:00PM\nClass 2-7 Tuesdays\, 12:00PM-2:00PM \n(no class on the Nov 21 week of Thanksgiving) \n$70 for 7 classes \nZoom
URL:https://cameraclublwv.org/event/class-photoshop-intermediate-art-ramirez-2-of-7/
LOCATION:Zoom\, Laguna Woods\, CA\, United States
CATEGORIES:Class
ORGANIZER;CN="Beth Schipper":MAILTO:schipperbeth@yahoo.com
END:VEVENT
BEGIN:VEVENT
DTSTART;TZID=America/Los_Angeles:20231024T090000
DTEND;TZID=America/Los_Angeles:20231024T110000
DTSTAMP:20260425T142955
CREATED:20230817T045326Z
LAST-MODIFIED:20230817T045326Z
UID:26304-1698138000-1698145200@cameraclublwv.org
SUMMARY:Class: “Elements – Intermediate”\, Art Ramirez (3 of 7)
DESCRIPTION:“Elements – Intermediate” \nArt Ramirez \nOCTOBER 13 though NOVEMBER 28\nClass 1 Friday 9:00AM-11:00AM\nClass 2-7 Tuesdays 9:00AM-11:00AM \n(no class on the Nov 21 week of Thanksgiving) \n$70 for 7 classes \nZoom
URL:https://cameraclublwv.org/event/class-elements-intermediate-art-ramirez-3-of-7/
LOCATION:Zoom\, Laguna Woods\, CA\, United States
CATEGORIES:Class
ORGANIZER;CN="Beth Schipper":MAILTO:schipperbeth@yahoo.com
END:VEVENT
BEGIN:VEVENT
DTSTART;TZID=America/Los_Angeles:20231024T103000
DTEND;TZID=America/Los_Angeles:20231024T123000
DTSTAMP:20260425T142955
CREATED:20230717T153736Z
LAST-MODIFIED:20231011T165148Z
UID:26006-1698143400-1698150600@cameraclublwv.org
SUMMARY:Class: iPhone Photography\, Kim Signoret Paar
DESCRIPTION:By popular demand\,Kim Signoret Paar returns for a second session of her excellent iPhone Photography class. \nClubhouse 4 \nRegistration is now open – look for the class email.
URL:https://cameraclublwv.org/event/class-iphone-photography-kim-signoret-paar/
CATEGORIES:Class
ORGANIZER;CN="Beth Schipper":MAILTO:schipperbeth@yahoo.com
END:VEVENT
BEGIN:VEVENT
DTSTART;TZID=America/Los_Angeles:20231024T120000
DTEND;TZID=America/Los_Angeles:20231024T140000
DTSTAMP:20260425T142955
CREATED:20230817T042859Z
LAST-MODIFIED:20230817T042859Z
UID:26277-1698148800-1698156000@cameraclublwv.org
SUMMARY:Class: “Photoshop – Intermediate”\, Art Ramirez (3 of 7)
DESCRIPTION:“Photoshop – Intermediate”\nArt Ramirez \nOCTOBER 13 though NOVEMBER 28 \nClass 1 Friday 12:00PM-2:00PM\nClass 2-7 Tuesdays\, 12:00PM-2:00PM \n(no class on the Nov 21 week of Thanksgiving) \n$70 for 7 classes \nZoom
URL:https://cameraclublwv.org/event/class-photoshop-intermediate-art-ramirez-3-of-7/
LOCATION:Zoom\, Laguna Woods\, CA\, United States
CATEGORIES:Class
ORGANIZER;CN="Beth Schipper":MAILTO:schipperbeth@yahoo.com
END:VEVENT
BEGIN:VEVENT
DTSTART;TZID=America/Los_Angeles:20231031T090000
DTEND;TZID=America/Los_Angeles:20231031T110000
DTSTAMP:20260425T142955
CREATED:20230817T045228Z
LAST-MODIFIED:20230817T045228Z
UID:26302-1698742800-1698750000@cameraclublwv.org
SUMMARY:Class: “Elements – Intermediate”\, Art Ramirez (4 of 7)
DESCRIPTION:“Elements – Intermediate” \nArt Ramirez \nOCTOBER 13 though NOVEMBER 28\nClass 1 Friday 9:00AM-11:00AM\nClass 2-7 Tuesdays 9:00AM-11:00AM \n(no class on the Nov 21 week of Thanksgiving) \n$70 for 7 classes \nZoom
URL:https://cameraclublwv.org/event/class-elements-intermediate-art-ramirez-4-of-7/
LOCATION:Zoom\, Laguna Woods\, CA\, United States
CATEGORIES:Class
ORGANIZER;CN="Beth Schipper":MAILTO:schipperbeth@yahoo.com
END:VEVENT
BEGIN:VEVENT
DTSTART;TZID=America/Los_Angeles:20231031T120000
DTEND;TZID=America/Los_Angeles:20231031T140000
DTSTAMP:20260425T142955
CREATED:20230817T043006Z
LAST-MODIFIED:20230817T043006Z
UID:26279-1698753600-1698760800@cameraclublwv.org
SUMMARY:Class: “Photoshop – Intermediate”\, Art Ramirez (4 of 7)
DESCRIPTION:“Photoshop – Intermediate”\nArt Ramirez \nOCTOBER 13 though NOVEMBER 28 \nClass 1 Friday 12:00PM-2:00PM\nClass 2-7 Tuesdays\, 12:00PM-2:00PM \n(no class on the Nov 21 week of Thanksgiving) \n$70 for 7 classes \nZoom
URL:https://cameraclublwv.org/event/class-photoshop-intermediate-art-ramirez-4-of-7/
LOCATION:Zoom\, Laguna Woods\, CA\, United States
CATEGORIES:Class
ORGANIZER;CN="Beth Schipper":MAILTO:schipperbeth@yahoo.com
END:VEVENT
END:VCALENDAR