BEGIN:VCALENDAR
VERSION:2.0
PRODID:-//Camera Club of Laguna Woods Village - ECPv6.15.20//NONSGML v1.0//EN
CALSCALE:GREGORIAN
METHOD:PUBLISH
X-ORIGINAL-URL:https://cameraclublwv.org
X-WR-CALDESC:Events for Camera Club of Laguna Woods Village
REFRESH-INTERVAL;VALUE=DURATION:PT1H
X-Robots-Tag:noindex
X-PUBLISHED-TTL:PT1H
BEGIN:VTIMEZONE
TZID:America/Los_Angeles
BEGIN:DAYLIGHT
TZOFFSETFROM:-0800
TZOFFSETTO:-0700
TZNAME:PDT
DTSTART:20250309T100000
END:DAYLIGHT
BEGIN:STANDARD
TZOFFSETFROM:-0700
TZOFFSETTO:-0800
TZNAME:PST
DTSTART:20251102T090000
END:STANDARD
BEGIN:DAYLIGHT
TZOFFSETFROM:-0800
TZOFFSETTO:-0700
TZNAME:PDT
DTSTART:20260308T100000
END:DAYLIGHT
BEGIN:STANDARD
TZOFFSETFROM:-0700
TZOFFSETTO:-0800
TZNAME:PST
DTSTART:20261101T090000
END:STANDARD
BEGIN:DAYLIGHT
TZOFFSETFROM:-0800
TZOFFSETTO:-0700
TZNAME:PDT
DTSTART:20270314T100000
END:DAYLIGHT
BEGIN:STANDARD
TZOFFSETFROM:-0700
TZOFFSETTO:-0800
TZNAME:PST
DTSTART:20271107T090000
END:STANDARD
END:VTIMEZONE
BEGIN:VEVENT
DTSTART;TZID=America/Los_Angeles:20260817T190000
DTEND;TZID=America/Los_Angeles:20260817T200000
DTSTAMP:20260422T093705
CREATED:20260127T154527Z
LAST-MODIFIED:20260127T154527Z
UID:33878-1786993200-1786996800@cameraclublwv.org
SUMMARY:Annual Slideshow Competition
DESCRIPTION:Mon. August 17\nAnnual Slideshow Competition\nLocation: Clubhouse 7\nDoors open at 6:30 for refreshments\nPresentations start at 7PM \nThe Annual Slide Show Competition presents unique slide-shows created by Club Members. Voting (secret) by fellow Club members attending the event awards 1st\, 2nd\, and 3rd place. \nView the 2025 Competition Results
URL:https://cameraclublwv.org/event/annual-slideshow-competition-3/
LOCATION:Clubhouse 7\, 24111 Moulton Pkwy\, Laguna Woods\, CA\, 92637\, United States
ORGANIZER;CN="Jack Salvador%2C 1st VP":MAILTO:firstvp@cameraclublwv.org
END:VEVENT
END:VCALENDAR