BEGIN:VCALENDAR
VERSION:2.0
PRODID:-//Camera Club of Laguna Woods Village - ECPv6.15.20//NONSGML v1.0//EN
CALSCALE:GREGORIAN
METHOD:PUBLISH
X-WR-CALNAME:Camera Club of Laguna Woods Village
X-ORIGINAL-URL:https://cameraclublwv.org
X-WR-CALDESC:Events for Camera Club of Laguna Woods Village
REFRESH-INTERVAL;VALUE=DURATION:PT1H
X-Robots-Tag:noindex
X-PUBLISHED-TTL:PT1H
BEGIN:VTIMEZONE
TZID:America/Los_Angeles
BEGIN:DAYLIGHT
TZOFFSETFROM:-0800
TZOFFSETTO:-0700
TZNAME:PDT
DTSTART:20250309T100000
END:DAYLIGHT
BEGIN:STANDARD
TZOFFSETFROM:-0700
TZOFFSETTO:-0800
TZNAME:PST
DTSTART:20251102T090000
END:STANDARD
BEGIN:DAYLIGHT
TZOFFSETFROM:-0800
TZOFFSETTO:-0700
TZNAME:PDT
DTSTART:20260308T100000
END:DAYLIGHT
BEGIN:STANDARD
TZOFFSETFROM:-0700
TZOFFSETTO:-0800
TZNAME:PST
DTSTART:20261101T090000
END:STANDARD
BEGIN:DAYLIGHT
TZOFFSETFROM:-0800
TZOFFSETTO:-0700
TZNAME:PDT
DTSTART:20270314T100000
END:DAYLIGHT
BEGIN:STANDARD
TZOFFSETFROM:-0700
TZOFFSETTO:-0800
TZNAME:PST
DTSTART:20271107T090000
END:STANDARD
END:VTIMEZONE
BEGIN:VEVENT
DTSTART;TZID=America/Los_Angeles:20260815T183000
DTEND;TZID=America/Los_Angeles:20260815T203000
DTSTAMP:20260422T064200
CREATED:20260331T214541Z
LAST-MODIFIED:20260331T214541Z
UID:34706-1786818600-1786825800@cameraclublwv.org
SUMMARY:Critique: Annual Print Critique – Non-Scored
DESCRIPTION:Sat. August 15 – Annual Print Critique – Non-Scored\nSubmission deadline: Tuesday August 11th \nPrint Competition webpage
URL:https://cameraclublwv.org/event/critique-annual-print-critique-non-scored/
LOCATION:Zoom\, Laguna Woods\, CA\, United States
ORGANIZER;CN="Rodney Cooper":MAILTO:critiques@cameraclublwv.org
END:VEVENT
END:VCALENDAR