BEGIN:VCALENDAR
VERSION:2.0
PRODID:-//Camera Club of Laguna Woods Village - ECPv6.15.20//NONSGML v1.0//EN
CALSCALE:GREGORIAN
METHOD:PUBLISH
X-WR-CALNAME:Camera Club of Laguna Woods Village
X-ORIGINAL-URL:https://cameraclublwv.org
X-WR-CALDESC:Events for Camera Club of Laguna Woods Village
REFRESH-INTERVAL;VALUE=DURATION:PT1H
X-Robots-Tag:noindex
X-PUBLISHED-TTL:PT1H
BEGIN:VTIMEZONE
TZID:America/Los_Angeles
BEGIN:DAYLIGHT
TZOFFSETFROM:-0800
TZOFFSETTO:-0700
TZNAME:PDT
DTSTART:20250309T100000
END:DAYLIGHT
BEGIN:STANDARD
TZOFFSETFROM:-0700
TZOFFSETTO:-0800
TZNAME:PST
DTSTART:20251102T090000
END:STANDARD
BEGIN:DAYLIGHT
TZOFFSETFROM:-0800
TZOFFSETTO:-0700
TZNAME:PDT
DTSTART:20260308T100000
END:DAYLIGHT
BEGIN:STANDARD
TZOFFSETFROM:-0700
TZOFFSETTO:-0800
TZNAME:PST
DTSTART:20261101T090000
END:STANDARD
BEGIN:DAYLIGHT
TZOFFSETFROM:-0800
TZOFFSETTO:-0700
TZNAME:PDT
DTSTART:20270314T100000
END:DAYLIGHT
BEGIN:STANDARD
TZOFFSETFROM:-0700
TZOFFSETTO:-0800
TZNAME:PST
DTSTART:20271107T090000
END:STANDARD
END:VTIMEZONE
BEGIN:VEVENT
DTSTART;TZID=America/Los_Angeles:20260721T170000
DTEND;TZID=America/Los_Angeles:20260721T170000
DTSTAMP:20260422T031949
CREATED:20260331T215505Z
LAST-MODIFIED:20260331T215523Z
UID:34714-1784653200-1784653200@cameraclublwv.org
SUMMARY:Submission Deadline: July Critique – Architecture
DESCRIPTION:Mon. July 27: “Architecture”\nSubmission Deadline: Tuesday July 21st\, 5PM by email \nArchitectural Photography is the art and practice of capturing buildings and structures\, focusing on their design\, form and function using specialized techniques like perspective control to present them accurately or artistically\, balancing precise documentation with the aesthetic appeal for the purposes ranging from marketing to fine art.  It involves capturing exteriors\, interiors\, and structures\, using natural and artificial light\, and mastering composition to convey the essence of the built environment. \nGo to the Critiques page for further details\, including the rules and guidelines PDF. \nRead 2026 Digital Critique Submission Rules – V1 (PDF\, Jan 11\, 2026)
URL:https://cameraclublwv.org/event/submission-deadline-july-critique-architecture/
LOCATION:Zoom\, Laguna Woods\, CA\, United States
ORGANIZER;CN="Rodney Cooper":MAILTO:critiques@cameraclublwv.org
END:VEVENT
END:VCALENDAR