BEGIN:VCALENDAR
VERSION:2.0
PRODID:-//Camera Club of Laguna Woods Village - ECPv6.15.20//NONSGML v1.0//EN
CALSCALE:GREGORIAN
METHOD:PUBLISH
X-ORIGINAL-URL:https://cameraclublwv.org
X-WR-CALDESC:Events for Camera Club of Laguna Woods Village
REFRESH-INTERVAL;VALUE=DURATION:PT1H
X-Robots-Tag:noindex
X-PUBLISHED-TTL:PT1H
BEGIN:VTIMEZONE
TZID:America/Los_Angeles
BEGIN:DAYLIGHT
TZOFFSETFROM:-0800
TZOFFSETTO:-0700
TZNAME:PDT
DTSTART:20250309T100000
END:DAYLIGHT
BEGIN:STANDARD
TZOFFSETFROM:-0700
TZOFFSETTO:-0800
TZNAME:PST
DTSTART:20251102T090000
END:STANDARD
BEGIN:DAYLIGHT
TZOFFSETFROM:-0800
TZOFFSETTO:-0700
TZNAME:PDT
DTSTART:20260308T100000
END:DAYLIGHT
BEGIN:STANDARD
TZOFFSETFROM:-0700
TZOFFSETTO:-0800
TZNAME:PST
DTSTART:20261101T090000
END:STANDARD
BEGIN:DAYLIGHT
TZOFFSETFROM:-0800
TZOFFSETTO:-0700
TZNAME:PDT
DTSTART:20270314T100000
END:DAYLIGHT
BEGIN:STANDARD
TZOFFSETFROM:-0700
TZOFFSETTO:-0800
TZNAME:PST
DTSTART:20271107T090000
END:STANDARD
END:VTIMEZONE
BEGIN:VEVENT
DTSTART;TZID=America/Los_Angeles:20260720T190000
DTEND;TZID=America/Los_Angeles:20260720T200000
DTSTAMP:20260422T034112
CREATED:20260127T151957Z
LAST-MODIFIED:20260127T152644Z
UID:33872-1784574000-1784577600@cameraclublwv.org
SUMMARY:Showcase (Club annual ice cream social): Wildlife Photography in Yellowstone & Grand Teton National Park\, Jeanette DiAnda
DESCRIPTION:Mon. July 20\nWildlife Photography in Yellowstone & Grand Teton National Park\nPresenter: Jeanette DiAnda \nLocation: Clubhouse 7\nDoors open at 6:30 for refreshments\nPresentations start at 7PM \nClub annual ice cream social\, and Showcase. \nJeanette DiAndra is one our respected Club Judges for Critiques\, and the Year End Competition. \nShe is an accomplished wildlife photographer\, concentrating in the greater Yellowstone area with an emphasis on Grand Teton National Park. She is not just a summer photographer\, many of her great images are captured in the rain\, and snowy winter conditions. \nJeanette will share her beautiful images with us\, provide some tips on photographing in these locations\, and talk about how to work in adverse weather conditions.
URL:https://cameraclublwv.org/event/showcase-club-annual-ice-cream-social-wildlife-photography-in-yellowstone-grand-teton-national-park-jeanette-dianda/
LOCATION:Clubhouse 7\, 24111 Moulton Pkwy\, Laguna Woods\, CA\, 92637\, United States
ORGANIZER;CN="Jack Salvador%2C 1st VP":MAILTO:firstvp@cameraclublwv.org
END:VEVENT
END:VCALENDAR