BEGIN:VCALENDAR
VERSION:2.0
PRODID:-//Camera Club of Laguna Woods Village - ECPv6.15.20//NONSGML v1.0//EN
CALSCALE:GREGORIAN
METHOD:PUBLISH
X-WR-CALNAME:Camera Club of Laguna Woods Village
X-ORIGINAL-URL:https://cameraclublwv.org
X-WR-CALDESC:Events for Camera Club of Laguna Woods Village
REFRESH-INTERVAL;VALUE=DURATION:PT1H
X-Robots-Tag:noindex
X-PUBLISHED-TTL:PT1H
BEGIN:VTIMEZONE
TZID:America/Los_Angeles
BEGIN:DAYLIGHT
TZOFFSETFROM:-0800
TZOFFSETTO:-0700
TZNAME:PDT
DTSTART:20240310T100000
END:DAYLIGHT
BEGIN:STANDARD
TZOFFSETFROM:-0700
TZOFFSETTO:-0800
TZNAME:PST
DTSTART:20241103T090000
END:STANDARD
BEGIN:DAYLIGHT
TZOFFSETFROM:-0800
TZOFFSETTO:-0700
TZNAME:PDT
DTSTART:20250309T100000
END:DAYLIGHT
BEGIN:STANDARD
TZOFFSETFROM:-0700
TZOFFSETTO:-0800
TZNAME:PST
DTSTART:20251102T090000
END:STANDARD
BEGIN:DAYLIGHT
TZOFFSETFROM:-0800
TZOFFSETTO:-0700
TZNAME:PDT
DTSTART:20260308T100000
END:DAYLIGHT
BEGIN:STANDARD
TZOFFSETFROM:-0700
TZOFFSETTO:-0800
TZNAME:PST
DTSTART:20261101T090000
END:STANDARD
END:VTIMEZONE
BEGIN:VEVENT
DTSTART;TZID=America/Los_Angeles:20250304T180000
DTEND;TZID=America/Los_Angeles:20250304T200000
DTSTAMP:20260422T153855
CREATED:20250223T234211Z
LAST-MODIFIED:20250223T234248Z
UID:30666-1741111200-1741118400@cameraclublwv.org
SUMMARY:Open House: Photo Lab
DESCRIPTION:TUESDAY MARCH 4th\, 6:00-8:00PM\nGate passes required for non-residents\n﻿Request gate pass \nJoin us at the Photo Lab for this month’s Open House. \nGet familiar the Lab\, speak with the Supervisors about the facility and the Lab services\, relax and talk shop with other members. \nBoard member and committee leads will be available to answer questions. \nLight refreshments will be served.
URL:https://cameraclublwv.org/event/open-house-photo-lab-2/
LOCATION:Clubhouse 4\, 23501 Via Mariposa W\, Laguna Woods\, CA\, 92637\, United States
ORGANIZER;CN="Jack Salvador%2C 1st VP":MAILTO:firstvp@cameraclublwv.org
END:VEVENT
END:VCALENDAR