BEGIN:VCALENDAR
VERSION:2.0
PRODID:-//Camera Club of Laguna Woods Village - ECPv6.15.20//NONSGML v1.0//EN
CALSCALE:GREGORIAN
METHOD:PUBLISH
X-WR-CALNAME:Camera Club of Laguna Woods Village
X-ORIGINAL-URL:https://cameraclublwv.org
X-WR-CALDESC:Events for Camera Club of Laguna Woods Village
REFRESH-INTERVAL;VALUE=DURATION:PT1H
X-Robots-Tag:noindex
X-PUBLISHED-TTL:PT1H
BEGIN:VTIMEZONE
TZID:America/Los_Angeles
BEGIN:DAYLIGHT
TZOFFSETFROM:-0800
TZOFFSETTO:-0700
TZNAME:PDT
DTSTART:20240310T100000
END:DAYLIGHT
BEGIN:STANDARD
TZOFFSETFROM:-0700
TZOFFSETTO:-0800
TZNAME:PST
DTSTART:20241103T090000
END:STANDARD
BEGIN:DAYLIGHT
TZOFFSETFROM:-0800
TZOFFSETTO:-0700
TZNAME:PDT
DTSTART:20250309T100000
END:DAYLIGHT
BEGIN:STANDARD
TZOFFSETFROM:-0700
TZOFFSETTO:-0800
TZNAME:PST
DTSTART:20251102T090000
END:STANDARD
BEGIN:DAYLIGHT
TZOFFSETFROM:-0800
TZOFFSETTO:-0700
TZNAME:PDT
DTSTART:20260308T100000
END:DAYLIGHT
BEGIN:STANDARD
TZOFFSETFROM:-0700
TZOFFSETTO:-0800
TZNAME:PST
DTSTART:20261101T090000
END:STANDARD
END:VTIMEZONE
BEGIN:VEVENT
DTSTART;TZID=America/Los_Angeles:20250210T133000
DTEND;TZID=America/Los_Angeles:20250210T150000
DTSTAMP:20260422T021332
CREATED:20241110T001420Z
LAST-MODIFIED:20250113T040350Z
UID:29915-1739194200-1739199600@cameraclublwv.org
SUMMARY:Class: Bakers Half Dozen – Beginning Photography\, David Dearing & Friends\, 1 of 2
DESCRIPTION:“Bakers Half Dozen” – Beginning Photography\nDavid Dearing\, & Friends \nMONDAY FEB. 10th & TUESDAY FEB. 11th\, 1:30-3:00PM\nClass 1 of 2 \nClubhouse #4\, Educational Classroom \nA two session workshop.\nFor Beginner to Intermediate photographers\, we will cover a broad range of topics: composition\, lighting\, post processing and sharing among others. Taught by some of the Club’s most recognizable long-time members. \nRegister for this class
URL:https://cameraclublwv.org/event/class-bakers-half-dozen-beginning-photography-david-dearing-friends-1-of-2/
LOCATION:Clubhouse 4\, 23501 Via Mariposa W\, Laguna Woods\, CA\, 92637\, United States
ORGANIZER;CN="Mary Madden%2C 2nd VP":MAILTO:secondvp@cameraclublwv.org
END:VEVENT
END:VCALENDAR